View In:
ArcGIS JavaScript
ArcGIS Online Map Viewer
ArcGIS Earth
ArcMap
View Footprint In:
ArcGIS Online Map Viewer
Service Description: Our 2015 high-resolution (0.5 ft. per pixel) orthoimagery is available in Natural Color (Red, Green, Blue) and Color Infrared. This aerial imagery was captured by our vendor EagleView (Pictometry). The imagery was collected from December 03, 2015 - December 06, 2015. Prior to delivery, the vendor geometrically corrected (orthorectified) the imagery such that the its scale is uniform and any distortions have been corrected. This process allows for an accurate representation of the earth's surface that can be used to measure true distances and extract GIS features. After delivery, TLCGIS staff performed additional quality control and enhancement processes to prepare the imagery for publication. This Natural Color (RGB) imagery shows the colors visible to the human eye. This is high-resolution imagery and you will appreciate the fine details visible in these images. This imagery covers only the developed portion of Leon County. Areas without buildings were not mapped to meet budget requirements.
Name: ImageryServices/TLC_Imagery2015_Pictometry_D_WM
Description: Our 2015 high-resolution (0.5 ft. per pixel) orthoimagery is available in Natural Color (Red, Green, Blue) and Color Infrared. This aerial imagery was captured by our vendor EagleView (Pictometry). The imagery was collected from December 03, 2015 - December 06, 2015. Prior to delivery, the vendor geometrically corrected (orthorectified) the imagery such that the its scale is uniform and any distortions have been corrected. This process allows for an accurate representation of the earth's surface that can be used to measure true distances and extract GIS features. After delivery, TLCGIS staff performed additional quality control and enhancement processes to prepare the imagery for publication. This Natural Color (RGB) imagery shows the colors visible to the human eye. This is high-resolution imagery and you will appreciate the fine details visible in these images. This imagery covers only the developed portion of Leon County. Areas without buildings were not mapped to meet budget requirements.
Single Fused Map Cache: false
Extent:
XMin: -9428923.7074
YMin: 3537789.014630987
XMax: -9348433.181618948
YMax: 3592173.520599999
Spatial Reference: 102100
(3857)
Initial Extent:
XMin: -9428923.7074
YMin: 3537789.014630987
XMax: -9348433.181618948
YMax: 3592173.520599999
Spatial Reference: 102100
(3857)
Full Extent:
XMin: -9428923.7074
YMin: 3537789.014630987
XMax: -9348433.181618948
YMax: 3592173.520599999
Spatial Reference: 102100
(3857)
Pixel Size X: 0.1524003048006108
Pixel Size Y: 0.1524003048006102
Band Count: 3
Pixel Type: U8
RasterFunction Infos: {"rasterFunctionInfos": [{
"name": "None",
"description": "",
"help": ""
}]}
Mensuration Capabilities: None
Has Histograms: true
Has Colormap: false
Has Multi Dimensions : false
Rendering Rule:
Min Scale: 0
Max Scale: 0
Copyright Text:
Service Data Type: esriImageServiceDataTypeProcessed
Min Values: 0, 0, 0
Max Values: 255, 255, 255
Mean Values: 101.12214110365093, 102.9216832786191, 83.80897660698362
Standard Deviation Values: 59.29343939315487, 52.85963610657531, 40.21379517744023
Object ID Field: OBJECTID
Fields:
-
OBJECTID
(
type: esriFieldTypeOID, alias: OBJECTID
)
-
Shape
(
type: esriFieldTypeGeometry, alias: Shape
)
-
Name
(
type: esriFieldTypeString, alias: Name, length: 50
)
-
MinPS
(
type: esriFieldTypeDouble, alias: MinPS
)
-
MaxPS
(
type: esriFieldTypeDouble, alias: MaxPS
)
-
LowPS
(
type: esriFieldTypeDouble, alias: LowPS
)
-
HighPS
(
type: esriFieldTypeDouble, alias: HighPS
)
-
Category
(
type: esriFieldTypeInteger, alias: Category
, Coded Values:
[0: Unknown]
, [1: Primary]
, [2: Overview]
, ...5 more...
)
-
Tag
(
type: esriFieldTypeString, alias: Tag, length: 20
)
-
GroupName
(
type: esriFieldTypeString, alias: GroupName, length: 50
)
-
ProductName
(
type: esriFieldTypeString, alias: ProductName, length: 50
)
-
CenterX
(
type: esriFieldTypeDouble, alias: CenterX
)
-
CenterY
(
type: esriFieldTypeDouble, alias: CenterY
)
-
ZOrder
(
type: esriFieldTypeInteger, alias: ZOrder
)
-
Shape_Length
(
type: esriFieldTypeDouble, alias: Shape_Length
)
-
Shape_Area
(
type: esriFieldTypeDouble, alias: Shape_Area
)
Default Mosaic Method: Northwest
Allowed Mosaic Methods: NorthWest,Center,ByAttribute,Nadir,Viewpoint
SortField:
SortValue: null
Mosaic Operator: Blend
Default Compression Quality: 75
Default Resampling Method: Bilinear
Max Record Count: 1000
Max Image Height: 4100
Max Image Width: 15000
Max Download Image Count: 20
Max Mosaic Image Count: 20
Allow Raster Function: true
Allow Copy: null
Allow Analysis: null
Allow Compute TiePoints: false
Supports Statistics: true
Supports Advanced Queries: true
Use StandardizedQueries: true
Raster Type Infos:
Name: Raster Dataset
Description: Supports all ArcGIS Raster Datasets
Help:
Has Raster Attribute Table: false
Edit Fields Info: null
Ownership Based AccessControl For Rasters: null
Child Resources:
Info
Histograms
Key Properties
Legend
Raster Function Infos
Supported Operations:
Export Image
Query
Identify
Compute Histograms
Compute Statistics Histograms
Get Samples
Compute Class Statistics
Query Boundary
Compute Pixel Location
Validate
Project