{
 "currentVersion": 10.81,
 "serviceDescription": "Our 2015 high-resolution (0.5 ft. per pixel) orthoimagery is available in Natural Color (Red, Green, Blue) and Color Infrared. This aerial imagery was captured by our vendor EagleView (Pictometry). The imagery was collected from December 03, 2015 - December 06, 2015. Prior to delivery, the vendor geometrically corrected (orthorectified) the imagery such that the its scale is uniform and any distortions have been corrected. This process allows for an accurate representation of the earth's surface that can be used to measure true distances and extract GIS features. After delivery, TLCGIS staff performed additional quality control and enhancement processes to prepare the imagery for publication. \n\nThis Natural Color (RGB) imagery shows the colors visible to the human eye. This is high-resolution imagery and you will appreciate the fine details visible in these images. This imagery covers only the developed portion of Leon County. Areas without buildings were not mapped to meet budget requirements.\n",
 "name": "ImageryServices/TLC_Imagery2015_Pictometry_D_WM",
 "description": "Our 2015 high-resolution (0.5 ft. per pixel) orthoimagery is available in Natural Color (Red, Green, Blue) and Color Infrared. This aerial imagery was captured by our vendor EagleView (Pictometry). The imagery was collected from December 03, 2015 - December 06, 2015. Prior to delivery, the vendor geometrically corrected (orthorectified) the imagery such that the its scale is uniform and any distortions have been corrected. This process allows for an accurate representation of the earth's surface that can be used to measure true distances and extract GIS features. After delivery, TLCGIS staff performed additional quality control and enhancement processes to prepare the imagery for publication. \n\nThis Natural Color (RGB) imagery shows the colors visible to the human eye. This is high-resolution imagery and you will appreciate the fine details visible in these images. This imagery covers only the developed portion of Leon County. Areas without buildings were not mapped to meet budget requirements.\n",
 "extent": {
  "xmin": -9428923.7074,
  "ymin": 3537789.014630987,
  "xmax": -9348433.181618948,
  "ymax": 3592173.520599999,
  "spatialReference": {
   "wkid": 102100,
   "latestWkid": 3857
  }
 },
 "initialExtent": {
  "xmin": -9428923.7074,
  "ymin": 3537789.014630987,
  "xmax": -9348433.181618948,
  "ymax": 3592173.520599999,
  "spatialReference": {
   "wkid": 102100,
   "latestWkid": 3857
  }
 },
 "fullExtent": {
  "xmin": -9428923.7074,
  "ymin": 3537789.014630987,
  "xmax": -9348433.181618948,
  "ymax": 3592173.520599999,
  "spatialReference": {
   "wkid": 102100,
   "latestWkid": 3857
  }
 },
 "pixelSizeX": 0.1524003048006108,
 "pixelSizeY": 0.1524003048006102,
 "bandCount": 3,
 "pixelType": "U8",
 "minPixelSize": 0,
 "maxPixelSize": 0,
 "copyrightText": "",
 "serviceDataType": "esriImageServiceDataTypeProcessed",
 "minValues": [
  0,
  0,
  0
 ],
 "maxValues": [
  255,
  255,
  255
 ],
 "meanValues": [
  101.12214110365093,
  102.9216832786191,
  83.80897660698362
 ],
 "stdvValues": [
  59.29343939315487,
  52.85963610657531,
  40.21379517744023
 ],
 "objectIdField": "OBJECTID",
 "fields": [
  {
   "name": "OBJECTID",
   "type": "esriFieldTypeOID",
   "alias": "OBJECTID",
   "domain": null
  },
  {
   "name": "Shape",
   "type": "esriFieldTypeGeometry",
   "alias": "Shape",
   "domain": null
  },
  {
   "name": "Name",
   "type": "esriFieldTypeString",
   "alias": "Name",
   "domain": null,
   "length": 50
  },
  {
   "name": "MinPS",
   "type": "esriFieldTypeDouble",
   "alias": "MinPS",
   "domain": null
  },
  {
   "name": "MaxPS",
   "type": "esriFieldTypeDouble",
   "alias": "MaxPS",
   "domain": null
  },
  {
   "name": "LowPS",
   "type": "esriFieldTypeDouble",
   "alias": "LowPS",
   "domain": null
  },
  {
   "name": "HighPS",
   "type": "esriFieldTypeDouble",
   "alias": "HighPS",
   "domain": null
  },
  {
   "name": "Category",
   "type": "esriFieldTypeInteger",
   "alias": "Category",
   "domain": {
    "type": "codedValue",
    "name": "MosaicCatalogItemCategoryDomain",
    "description": "Catalog item categories.",
    "codedValues": [
     {
      "name": "Unknown",
      "code": 0
     },
     {
      "name": "Primary",
      "code": 1
     },
     {
      "name": "Overview",
      "code": 2
     },
     {
      "name": "Unprocessed Overview",
      "code": 3
     },
     {
      "name": "Partial Overview",
      "code": 4
     },
     {
      "name": "Uploaded",
      "code": 253
     },
     {
      "name": "Incomplete",
      "code": 254
     },
     {
      "name": "Custom",
      "code": 255
     }
    ],
    "mergePolicy": "esriMPTDefaultValue",
    "splitPolicy": "esriSPTDefaultValue"
   }
  },
  {
   "name": "Tag",
   "type": "esriFieldTypeString",
   "alias": "Tag",
   "domain": null,
   "length": 20
  },
  {
   "name": "GroupName",
   "type": "esriFieldTypeString",
   "alias": "GroupName",
   "domain": null,
   "length": 50
  },
  {
   "name": "ProductName",
   "type": "esriFieldTypeString",
   "alias": "ProductName",
   "domain": null,
   "length": 50
  },
  {
   "name": "CenterX",
   "type": "esriFieldTypeDouble",
   "alias": "CenterX",
   "domain": null
  },
  {
   "name": "CenterY",
   "type": "esriFieldTypeDouble",
   "alias": "CenterY",
   "domain": null
  },
  {
   "name": "ZOrder",
   "type": "esriFieldTypeInteger",
   "alias": "ZOrder",
   "domain": null
  },
  {
   "name": "Shape_Length",
   "type": "esriFieldTypeDouble",
   "alias": "Shape_Length",
   "domain": null
  },
  {
   "name": "Shape_Area",
   "type": "esriFieldTypeDouble",
   "alias": "Shape_Area",
   "domain": null
  }
 ],
 "capabilities": "Catalog,Image,Metadata",
 "defaultMosaicMethod": "Northwest",
 "allowedMosaicMethods": "NorthWest,Center,ByAttribute,Nadir,Viewpoint",
 "sortField": "",
 "sortValue": null,
 "sortAscending": true,
 "mosaicOperator": "Blend",
 "maxDownloadSizeLimit": 2048,
 "defaultCompressionQuality": 75,
 "defaultResamplingMethod": "Bilinear",
 "maxImageHeight": 4100,
 "maxImageWidth": 15000,
 "maxRecordCount": 1000,
 "maxDownloadImageCount": 20,
 "maxMosaicImageCount": 20,
 "allowRasterFunction": true,
 "rasterFunctionInfos": [
  {
   "name": "None",
   "description": "",
   "help": ""
  }
 ],
 "rasterTypeInfos": [
  {
   "name": "Raster Dataset",
   "description": "Supports all ArcGIS Raster Datasets",
   "help": ""
  }
 ],
 "mensurationCapabilities": "None",
 "hasHistograms": true,
 "hasColormap": false,
 "hasRasterAttributeTable": false,
 "minScale": 0,
 "maxScale": 0,
 "exportTilesAllowed": false,
 "hasMultidimensions": false,
 "supportsStatistics": true,
 "supportsAdvancedQueries": true,
 "editFieldsInfo": null,
 "ownershipBasedAccessControlForRasters": null,
 "allowComputeTiePoints": false,
 "useStandardizedQueries": true,
 "advancedQueryCapabilities": {
  "useStandardizedQueries": true,
  "supportsStatistics": true,
  "supportsOrderBy": true,
  "supportsDistinct": true,
  "supportsPagination": true
 },
 "spatialReference": {
  "wkid": 102100,
  "latestWkid": 3857
 }
}
