View In:
ArcGIS JavaScript
ArcGIS Online Map Viewer
ArcGIS Earth
ArcMap
View Footprint In:
ArcGIS Online Map Viewer
Service Description: 1996 ortho imagery. This image data set was compiled using Digital Photogrammetric techniques and Aerial Photography acquired in January 1996 and is one of the image data sets compiled as part of the Tallahassee-Leon County GIS Inter-local 1996 Landbase Update Project. The primary contractor for this project was ADR Associates of Pittsburgh, Pennsylvania. The project was conducted in two phases. The phase 1 area is an irregular shaped area which includes the Tallahassee City Limits south to Woodville and the southern boundary of Leon County. The Phase 2 area includes the remaining portion of Leon County. The Phase 1 area was flown at an altitude of 4200 feet producing a nominal photo scale of 1:8400 (1" = 700 feet). The Phase 2 area was flown at a higher altitude of 8400 feet producing a nominal photo scale of 1:16,800 (1" = 1400 feet). Imagery re-sampled to 0.5 ft ground resolution for this data set. Supplemental Information 1. The base96 Digital Ortho Imagery should be used for applications compatible with 1:1,200 (1" = 100 ft)and 1:2,400 (1" = 200 ft) map scales. 2. Ground features will not be visible in areas of dense tree cover or by heavy shadows. In urban areas relief displacement of tall structures may obscure ground features in these areas.
Name: ImageryServices/TLC_Imagery1996_D_WM
Description: 1996 ortho imagery. This image data set was compiled using Digital Photogrammetric techniques and Aerial Photography acquired in January 1996 and is one of the image data sets compiled as part of the Tallahassee-Leon County GIS Inter-local 1996 Landbase Update Project. The primary contractor for this project was ADR Associates of Pittsburgh, Pennsylvania. The project was conducted in two phases. The phase 1 area is an irregular shaped area which includes the Tallahassee City Limits south to Woodville and the southern boundary of Leon County. The Phase 2 area includes the remaining portion of Leon County. The Phase 1 area was flown at an altitude of 4200 feet producing a nominal photo scale of 1:8400 (1" = 700 feet). The Phase 2 area was flown at a higher altitude of 8400 feet producing a nominal photo scale of 1:16,800 (1" = 1400 feet). Imagery re-sampled to 0.5 ft ground resolution for this data set. Supplemental Information 1. The base96 Digital Ortho Imagery should be used for applications compatible with 1:1,200 (1" = 100 ft)and 1:2,400 (1" = 200 ft) map scales. 2. Ground features will not be visible in areas of dense tree cover or by heavy shadows. In urban areas relief displacement of tall structures may obscure ground features in these areas.
Single Fused Map Cache: false
Extent:
XMin: -9430488.6763
YMin: 3538729.7678648476
XMax: -9348371.886866422
YMax: 3591947.344700001
Spatial Reference: 102100
(3857)
Initial Extent:
XMin: -9430488.6763
YMin: 3538729.7678648476
XMax: -9348371.886866422
YMax: 3591947.344700001
Spatial Reference: 102100
(3857)
Full Extent:
XMin: -9430488.6763
YMin: 3538729.7678648476
XMax: -9348371.886866422
YMax: 3591947.344700001
Spatial Reference: 102100
(3857)
Pixel Size X: 0.15240030480060804
Pixel Size Y: 0.15240030480060948
Band Count: 1
Pixel Type: U8
RasterFunction Infos: {"rasterFunctionInfos": [{
"name": "None",
"description": "",
"help": ""
}]}
Mensuration Capabilities: Basic
Has Histograms: true
Has Colormap: false
Has Multi Dimensions : false
Rendering Rule:
Min Scale: 0
Max Scale: 0
Copyright Text:
Service Data Type: esriImageServiceDataTypeProcessed
Min Values: 0
Max Values: 255
Mean Values: 114.22862490956963
Standard Deviation Values: 53.703847990845446
Object ID Field: OBJECTID
Fields:
-
OBJECTID
(
type: esriFieldTypeOID, alias: OBJECTID
)
-
Shape
(
type: esriFieldTypeGeometry, alias: Shape
)
-
Name
(
type: esriFieldTypeString, alias: Name, length: 50
)
-
MinPS
(
type: esriFieldTypeDouble, alias: MinPS
)
-
MaxPS
(
type: esriFieldTypeDouble, alias: MaxPS
)
-
LowPS
(
type: esriFieldTypeDouble, alias: LowPS
)
-
HighPS
(
type: esriFieldTypeDouble, alias: HighPS
)
-
Category
(
type: esriFieldTypeInteger, alias: Category
, Coded Values:
[0: Unknown]
, [1: Primary]
, [2: Overview]
, ...6 more...
)
-
Tag
(
type: esriFieldTypeString, alias: Tag, length: 20
)
-
GroupName
(
type: esriFieldTypeString, alias: GroupName, length: 50
)
-
ProductName
(
type: esriFieldTypeString, alias: ProductName, length: 50
)
-
CenterX
(
type: esriFieldTypeDouble, alias: CenterX
)
-
CenterY
(
type: esriFieldTypeDouble, alias: CenterY
)
-
ZOrder
(
type: esriFieldTypeInteger, alias: ZOrder
)
-
Shape_Length
(
type: esriFieldTypeDouble, alias: Shape_Length
)
-
Shape_Area
(
type: esriFieldTypeDouble, alias: Shape_Area
)
Default Mosaic Method: Northwest
Allowed Mosaic Methods: NorthWest,Center,LockRaster,ByAttribute,Nadir,Viewpoint,Seamline,None
SortField:
SortValue: null
Mosaic Operator: Blend
Default Compression Quality: 75
Default Resampling Method: Bilinear
Max Record Count: 1000
Max Image Height: 4100
Max Image Width: 15000
Max Download Image Count: 20
Max Mosaic Image Count: 20
Allow Raster Function: true
Allow Copy: null
Allow Analysis: null
Allow Compute TiePoints: false
Supports Statistics: true
Supports Advanced Queries: true
Use StandardizedQueries: true
Raster Type Infos:
Name: Raster Dataset
Description: Supports all ArcGIS Raster Datasets
Help:
Has Raster Attribute Table: false
Edit Fields Info: null
Ownership Based AccessControl For Rasters: null
Child Resources:
Info
Histograms
Key Properties
Legend
Raster Function Infos
Supported Operations:
Export Image
Query
Identify
Measure
Compute Histograms
Compute Statistics Histograms
Get Samples
Compute Class Statistics
Query Boundary
Compute Pixel Location
Validate
Project