{
 "currentVersion": 10.81,
 "serviceDescription": "1996 ortho imagery. This image data set was compiled using Digital Photogrammetric techniques and Aerial Photography acquired in January 1996 and is one of the image data sets compiled as part of the Tallahassee-Leon County GIS Inter-local 1996 Landbase Update Project. The primary contractor for this project was ADR Associates of Pittsburgh, Pennsylvania. The project was conducted in two phases. The phase 1 area is an irregular shaped area which includes the Tallahassee City Limits south to Woodville and the southern boundary of Leon County. The Phase 2 area includes the remaining portion of Leon County. The Phase 1 area was flown at an altitude of 4200 feet producing a nominal photo scale of 1:8400 (1\" = 700 feet). The Phase 2 area was flown at a higher altitude of 8400 feet producing a nominal photo scale of 1:16,800 (1\" = 1400 feet). Imagery re-sampled to 0.5 ft ground resolution for this data set. Supplemental Information 1. The base96 Digital Ortho Imagery should be used for applications compatible with 1:1,200 (1\" = 100 ft)and 1:2,400 (1\" = 200 ft) map scales. 2. Ground features will not be visible in areas of dense tree cover or by heavy shadows. In urban areas relief displacement of tall structures may obscure ground features in these areas.\n",
 "name": "ImageryServices/TLC_Imagery1996_D_WM",
 "description": "1996 ortho imagery. This image data set was compiled using Digital Photogrammetric techniques and Aerial Photography acquired in January 1996 and is one of the image data sets compiled as part of the Tallahassee-Leon County GIS Inter-local 1996 Landbase Update Project. The primary contractor for this project was ADR Associates of Pittsburgh, Pennsylvania. The project was conducted in two phases. The phase 1 area is an irregular shaped area which includes the Tallahassee City Limits south to Woodville and the southern boundary of Leon County. The Phase 2 area includes the remaining portion of Leon County. The Phase 1 area was flown at an altitude of 4200 feet producing a nominal photo scale of 1:8400 (1\" = 700 feet). The Phase 2 area was flown at a higher altitude of 8400 feet producing a nominal photo scale of 1:16,800 (1\" = 1400 feet). Imagery re-sampled to 0.5 ft ground resolution for this data set. Supplemental Information 1. The base96 Digital Ortho Imagery should be used for applications compatible with 1:1,200 (1\" = 100 ft)and 1:2,400 (1\" = 200 ft) map scales. 2. Ground features will not be visible in areas of dense tree cover or by heavy shadows. In urban areas relief displacement of tall structures may obscure ground features in these areas.\n",
 "extent": {
  "xmin": -9430488.6763,
  "ymin": 3538729.7678648476,
  "xmax": -9348371.886866422,
  "ymax": 3591947.344700001,
  "spatialReference": {
   "wkid": 102100,
   "latestWkid": 3857
  }
 },
 "initialExtent": {
  "xmin": -9430488.6763,
  "ymin": 3538729.7678648476,
  "xmax": -9348371.886866422,
  "ymax": 3591947.344700001,
  "spatialReference": {
   "wkid": 102100,
   "latestWkid": 3857
  }
 },
 "fullExtent": {
  "xmin": -9430488.6763,
  "ymin": 3538729.7678648476,
  "xmax": -9348371.886866422,
  "ymax": 3591947.344700001,
  "spatialReference": {
   "wkid": 102100,
   "latestWkid": 3857
  }
 },
 "pixelSizeX": 0.15240030480060804,
 "pixelSizeY": 0.15240030480060948,
 "bandCount": 1,
 "pixelType": "U8",
 "minPixelSize": 0,
 "maxPixelSize": 0,
 "copyrightText": "",
 "serviceDataType": "esriImageServiceDataTypeProcessed",
 "minValues": [
  0
 ],
 "maxValues": [
  255
 ],
 "meanValues": [
  114.22862490956963
 ],
 "stdvValues": [
  53.703847990845446
 ],
 "objectIdField": "OBJECTID",
 "fields": [
  {
   "name": "OBJECTID",
   "type": "esriFieldTypeOID",
   "alias": "OBJECTID",
   "domain": null
  },
  {
   "name": "Shape",
   "type": "esriFieldTypeGeometry",
   "alias": "Shape",
   "domain": null
  },
  {
   "name": "Name",
   "type": "esriFieldTypeString",
   "alias": "Name",
   "domain": null,
   "length": 50
  },
  {
   "name": "MinPS",
   "type": "esriFieldTypeDouble",
   "alias": "MinPS",
   "domain": null
  },
  {
   "name": "MaxPS",
   "type": "esriFieldTypeDouble",
   "alias": "MaxPS",
   "domain": null
  },
  {
   "name": "LowPS",
   "type": "esriFieldTypeDouble",
   "alias": "LowPS",
   "domain": null
  },
  {
   "name": "HighPS",
   "type": "esriFieldTypeDouble",
   "alias": "HighPS",
   "domain": null
  },
  {
   "name": "Category",
   "type": "esriFieldTypeInteger",
   "alias": "Category",
   "domain": {
    "type": "codedValue",
    "name": "MosaicCatalogItemCategoryDomain",
    "description": "Catalog item categories.",
    "codedValues": [
     {
      "name": "Unknown",
      "code": 0
     },
     {
      "name": "Primary",
      "code": 1
     },
     {
      "name": "Overview",
      "code": 2
     },
     {
      "name": "Unprocessed Overview",
      "code": 3
     },
     {
      "name": "Partial Overview",
      "code": 4
     },
     {
      "name": "Inactive",
      "code": 5
     },
     {
      "name": "Uploaded",
      "code": 253
     },
     {
      "name": "Incomplete",
      "code": 254
     },
     {
      "name": "Custom",
      "code": 255
     }
    ],
    "mergePolicy": "esriMPTDefaultValue",
    "splitPolicy": "esriSPTDefaultValue"
   }
  },
  {
   "name": "Tag",
   "type": "esriFieldTypeString",
   "alias": "Tag",
   "domain": null,
   "length": 20
  },
  {
   "name": "GroupName",
   "type": "esriFieldTypeString",
   "alias": "GroupName",
   "domain": null,
   "length": 50
  },
  {
   "name": "ProductName",
   "type": "esriFieldTypeString",
   "alias": "ProductName",
   "domain": null,
   "length": 50
  },
  {
   "name": "CenterX",
   "type": "esriFieldTypeDouble",
   "alias": "CenterX",
   "domain": null
  },
  {
   "name": "CenterY",
   "type": "esriFieldTypeDouble",
   "alias": "CenterY",
   "domain": null
  },
  {
   "name": "ZOrder",
   "type": "esriFieldTypeInteger",
   "alias": "ZOrder",
   "domain": null
  },
  {
   "name": "Shape_Length",
   "type": "esriFieldTypeDouble",
   "alias": "Shape_Length",
   "domain": null
  },
  {
   "name": "Shape_Area",
   "type": "esriFieldTypeDouble",
   "alias": "Shape_Area",
   "domain": null
  }
 ],
 "capabilities": "Catalog,Mensuration,Image,Metadata",
 "defaultMosaicMethod": "Northwest",
 "allowedMosaicMethods": "NorthWest,Center,LockRaster,ByAttribute,Nadir,Viewpoint,Seamline,None",
 "sortField": "",
 "sortValue": null,
 "sortAscending": true,
 "mosaicOperator": "Blend",
 "maxDownloadSizeLimit": 2048,
 "defaultCompressionQuality": 75,
 "defaultResamplingMethod": "Bilinear",
 "maxImageHeight": 4100,
 "maxImageWidth": 15000,
 "maxRecordCount": 1000,
 "maxDownloadImageCount": 20,
 "maxMosaicImageCount": 20,
 "allowRasterFunction": true,
 "rasterFunctionInfos": [
  {
   "name": "None",
   "description": "",
   "help": ""
  }
 ],
 "rasterTypeInfos": [
  {
   "name": "Raster Dataset",
   "description": "Supports all ArcGIS Raster Datasets",
   "help": ""
  }
 ],
 "mensurationCapabilities": "Basic",
 "hasHistograms": true,
 "hasColormap": false,
 "hasRasterAttributeTable": false,
 "minScale": 0,
 "maxScale": 0,
 "exportTilesAllowed": false,
 "hasMultidimensions": false,
 "supportsStatistics": true,
 "supportsAdvancedQueries": true,
 "editFieldsInfo": null,
 "ownershipBasedAccessControlForRasters": null,
 "allowComputeTiePoints": false,
 "useStandardizedQueries": true,
 "advancedQueryCapabilities": {
  "useStandardizedQueries": true,
  "supportsStatistics": true,
  "supportsOrderBy": true,
  "supportsDistinct": true,
  "supportsPagination": true
 },
 "spatialReference": {
  "wkid": 102100,
  "latestWkid": 3857
 }
}
