View In:
ArcGIS JavaScript
ArcGIS Online Map Viewer
ArcGIS Earth
ArcMap
ArcGIS Pro
View Footprint In:
ArcGIS Online Map Viewer
Service Description: 2018 Ortho Imagery for Leon County. The cache was produced from the original TIFF images. Cache LODs match ArcGIS Online, Bing and Google tiling scheme. Data covers Leon County only, so upper LODs beyond Leon County were eliminated. Hybrid indicates that Labels and streets are fused with the imagery.
Map Name: Layers
Legend
All Layers and Tables
Dynamic Legend
Dynamic All Layers
Layers:
Description:
Copyright Text: TLCGIS
Spatial Reference:
102100
(3857)
Single Fused Map Cache: true
Tile Info:
- Height: 256
- Width: 256
- DPI: 96
-
Levels of Detail: 21
-
Level ID: 0
[ Start Tile, End Tile ]
- Resolution: 156543.03392800014
- Scale: 5.91657527591555E8
-
Level ID: 1
[ Start Tile, End Tile ]
- Resolution: 78271.51696399994
- Scale: 2.95828763795777E8
-
Level ID: 2
[ Start Tile, End Tile ]
- Resolution: 39135.75848200009
- Scale: 1.47914381897889E8
-
Level ID: 3
[ Start Tile, End Tile ]
- Resolution: 19567.87924099992
- Scale: 7.3957190948944E7
-
Level ID: 4
[ Start Tile, End Tile ]
- Resolution: 9783.93962049996
- Scale: 3.6978595474472E7
-
Level ID: 5
[ Start Tile, End Tile ]
- Resolution: 4891.96981024998
- Scale: 1.8489297737236E7
- Format: MIXED
- Compression Quality: 90.0
- Origin: X: -2.00377E7
Y: 3.02411E7
- Spatial Reference: 102100
(3857)
Initial Extent:
XMin: -9380625.373820158
YMin: 3559937.2162894425
XMax: -9379305.640753781
YMax: 3560328.9560593716
Spatial Reference: 102100
(3857)
Full Extent:
XMin: -9475405.1072
YMin: 3472309.6992999986
XMax: -9316002.4594
YMax: 3606058.7396000028
Spatial Reference: 102100
(3857)
Units: esriMeters
Supported Image Format Types: PNG32,PNG24,PNG,JPG,DIB,TIFF,EMF,PS,PDF,GIF,SVG,SVGZ,BMP
Document Info:
Title: 2018 Hybrid Imagery Cache
Author: Ned Cake
Comments: 2018 Ortho Imagery for Leon County. The cache was produced from the original TIFF images. Cache LODs match ArcGIS Online, Bing and Google tiling scheme. Data covers Leon County only, so upper LODs beyond Leon County were eliminated. Hybrid indicates that Labels and streets are fused with the imagery.
Subject: 2018 Imagery with Labels and Streets as a fused overlay.
Category:
Keywords: imagery,aerial photo,ortho,leon,leon county,tallahassee,2012,hybrid
AntialiasingMode: None
TextAntialiasingMode: Force
Supports Dynamic Layers: true
MaxRecordCount: 1000
MaxImageHeight: 4096
MaxImageWidth: 4096
Supported Query Formats: JSON, geoJSON
Supports Query Data Elements:
Min Scale: 1155581.108577
Max Scale: 564.248588
Supports Datum Transformation: true
Child Resources:
Info
Dynamic Layer
Supported Operations:
Export Map
Identify
QueryDomains
QueryLegends
Find
Return Updates