View In:
ArcGIS JavaScript
ArcGIS Online Map Viewer
ArcGIS Earth
ArcMap
View Footprint In:
ArcGIS Online Map Viewer
Service Description: 2016 color imagery for Tallahassee and Leon County, Florida. This nadir imagery was flown and provided by Pictometry International (Eagleview). This imagery layer was published as a dynamic service from an ESRI mosaic data set.
The dates of acquisition for this imagery are from 12/3/15 – 12/6/15
Name: ImageryServices/TLC_Imagery2016_Pictometry_D_WM
Description: 2016 color imagery for Tallahassee and Leon County, Florida. This nadir imagery was flown and provided by Pictometry International (Eagleview). This imagery layer was published as a dynamic service from an ESRI mosaic data set.
The dates of acquisition for this imagery are from 12/3/15 – 12/6/15
Single Fused Map Cache: false
Extent:
XMin: -9430492.8116
YMin: 3538725.0153209544
XMax: -9348371.754957886
YMax: 3591964.537799999
Spatial Reference: 102100
(3857)
Initial Extent:
XMin: -9430492.8116
YMin: 3538725.0153209544
XMax: -9348371.754957886
YMax: 3591964.537799999
Spatial Reference: 102100
(3857)
Full Extent:
XMin: -9430492.8116
YMin: 3538725.0153209544
XMax: -9348371.754957886
YMax: 3591964.537799999
Spatial Reference: 102100
(3857)
Pixel Size X: 0.15240030480060954
Pixel Size Y: 0.15240030480060898
Band Count: 3
Pixel Type: U8
RasterFunction Infos: {"rasterFunctionInfos": [{
"name": "None",
"description": "",
"help": ""
}]}
Mensuration Capabilities: Basic
Has Histograms: true
Has Colormap: false
Has Multi Dimensions : false
Rendering Rule:
Min Scale: 0
Max Scale: 0
Copyright Text: TLCGIS, Pictometry
Service Data Type: esriImageServiceDataTypeProcessed
Min Values: 0, 9, 31
Max Values: 255, 255, 255
Mean Values: 115.41195771313913, 113.72845044575436, 101.47106434786335
Standard Deviation Values: 31.109985091768337, 24.414846243902197, 19.21242553615009
Object ID Field: OBJECTID
Fields:
-
OBJECTID
(
type: esriFieldTypeOID, alias: OBJECTID
)
-
Shape
(
type: esriFieldTypeGeometry, alias: Shape
)
-
Name
(
type: esriFieldTypeString, alias: Name, length: 50
)
-
MinPS
(
type: esriFieldTypeDouble, alias: MinPS
)
-
MaxPS
(
type: esriFieldTypeDouble, alias: MaxPS
)
-
LowPS
(
type: esriFieldTypeDouble, alias: LowPS
)
-
HighPS
(
type: esriFieldTypeDouble, alias: HighPS
)
-
Category
(
type: esriFieldTypeInteger, alias: Category
, Coded Values:
[0: Unknown]
, [1: Primary]
, [2: Overview]
, ...5 more...
)
-
Tag
(
type: esriFieldTypeString, alias: Tag, length: 20
)
-
GroupName
(
type: esriFieldTypeString, alias: GroupName, length: 50
)
-
ProductName
(
type: esriFieldTypeString, alias: ProductName, length: 50
)
-
CenterX
(
type: esriFieldTypeDouble, alias: CenterX
)
-
CenterY
(
type: esriFieldTypeDouble, alias: CenterY
)
-
ZOrder
(
type: esriFieldTypeInteger, alias: ZOrder
)
-
Shape_Length
(
type: esriFieldTypeDouble, alias: Shape_Length
)
-
Shape_Area
(
type: esriFieldTypeDouble, alias: Shape_Area
)
Default Mosaic Method: Northwest
Allowed Mosaic Methods: NorthWest,Center,LockRaster,ByAttribute,Nadir,Viewpoint,Seamline,None
SortField:
SortValue: null
Mosaic Operator: First
Default Compression Quality: 75
Default Resampling Method: Bilinear
Max Record Count: 1000
Max Image Height: 4100
Max Image Width: 15000
Max Download Image Count: 20
Max Mosaic Image Count: 20
Allow Raster Function: true
Allow Copy: null
Allow Analysis: null
Allow Compute TiePoints: false
Supports Statistics: true
Supports Advanced Queries: true
Use StandardizedQueries: true
Raster Type Infos:
Name: Raster Dataset
Description: Supports all ArcGIS Raster Datasets
Help:
Has Raster Attribute Table: false
Edit Fields Info: null
Ownership Based AccessControl For Rasters: null
Child Resources:
Info
Histograms
Key Properties
Legend
Raster Function Infos
Supported Operations:
Export Image
Query
Identify
Measure
Compute Histograms
Compute Statistics Histograms
Get Samples
Compute Class Statistics
Query Boundary
Compute Pixel Location
Validate
Project