View In:
ArcGIS JavaScript
ArcGIS Online Map Viewer
ArcGIS Earth
ArcMap
View Footprint In:
ArcGIS Online Map Viewer
Service Description: Our 2012 high-resolution (0.5 ft. per pixel) orthoimagery is available in Natural Color (Red, Green, Blue). This aerial imagery was captured by our vendor Merrick and Co. The imagery was collected from January 29, 2012 to February 12, 2012. Prior to delivery, the vendor geometrically corrected (orthorectified) the imagery such that the its scale is uniform and any distortions have been corrected. This process allows for an accurate representation of the earth's surface that can be used to measure true distances and extract GIS features. After delivery, TLCGIS staff performed additional quality control and enhancement processes to prepare the imagery for publication. This dynamic map service is hosted on TLCGIS' ArcGIS Servers and registered in ArcGIS Online where it is shared for public consumption.
This Natural Color (RGB) imagery shows the colors visible to the human eye. This is high-resolution imagery and you will appreciate the fine details visible in these images. This imagery covers only the developed portion of Leon County. Areas without buildings were not mapped to meet budget requirements.
Acquisition Information: This dataset is part of a regularly scheduled update of LiDAR and digital orthotography products. The dataset was created from source imagery acquired by a Trimble TAC80 natural color digital camera and LAS data acquired by a LAS data acquired by a Leica ALS50 Phase 2+ LiDAR sensor from January 29, 2012 to February 12, 2012.
Name: ImageryServices/TLC_Imagery2012_D_WM
Description: Our 2012 high-resolution (0.5 ft. per pixel) orthoimagery is available in Natural Color (Red, Green, Blue). This aerial imagery was captured by our vendor Merrick and Co. The imagery was collected from January 29, 2012 to February 12, 2012. Prior to delivery, the vendor geometrically corrected (orthorectified) the imagery such that the its scale is uniform and any distortions have been corrected. This process allows for an accurate representation of the earth's surface that can be used to measure true distances and extract GIS features. After delivery, TLCGIS staff performed additional quality control and enhancement processes to prepare the imagery for publication. This dynamic map service is hosted on TLCGIS' ArcGIS Servers and registered in ArcGIS Online where it is shared for public consumption.
This Natural Color (RGB) imagery shows the colors visible to the human eye. This is high-resolution imagery and you will appreciate the fine details visible in these images. This imagery covers only the developed portion of Leon County. Areas without buildings were not mapped to meet budget requirements.
Acquisition Information: This dataset is part of a regularly scheduled update of LiDAR and digital orthotography products. The dataset was created from source imagery acquired by a Trimble TAC80 natural color digital camera and LAS data acquired by a LAS data acquired by a Leica ALS50 Phase 2+ LiDAR sensor from January 29, 2012 to February 12, 2012.
Single Fused Map Cache: false
Extent:
XMin: -9430490.9917
YMin: 3538726.4150581444
XMax: -9348365.515449047
YMax: 3591947.3447000035
Spatial Reference: 102100
(3857)
Initial Extent:
XMin: -9430490.9917
YMin: 3538726.4150581444
XMax: -9348365.515449047
YMax: 3591947.3447000035
Spatial Reference: 102100
(3857)
Full Extent:
XMin: -9430490.9917
YMin: 3538726.4150581444
XMax: -9348365.515449047
YMax: 3591947.3447000035
Spatial Reference: 102100
(3857)
Pixel Size X: 0.15240030480060887
Pixel Size Y: 0.1524003048006092
Band Count: 3
Pixel Type: U8
RasterFunction Infos: {"rasterFunctionInfos": [{
"name": "None",
"description": "A No-Op Function.",
"help": ""
}]}
Mensuration Capabilities: Basic
Has Histograms: true
Has Colormap: false
Has Multi Dimensions : false
Rendering Rule:
Min Scale: 0
Max Scale: 0
Copyright Text:
Service Data Type: esriImageServiceDataTypeProcessed
Min Values: 0, 0, 0
Max Values: 255, 255, 255
Mean Values: 70.99965383537909, 71.1101552923039, 55.82995287521836
Standard Deviation Values: 37.233790879502564, 31.684890622797393, 30.297721924815285
Object ID Field: OBJECTID
Fields:
-
OBJECTID
(
type: esriFieldTypeOID, alias: OBJECTID
)
-
Shape
(
type: esriFieldTypeGeometry, alias: Shape
)
-
Name
(
type: esriFieldTypeString, alias: Name, length: 50
)
-
MinPS
(
type: esriFieldTypeDouble, alias: MinPS
)
-
MaxPS
(
type: esriFieldTypeDouble, alias: MaxPS
)
-
LowPS
(
type: esriFieldTypeDouble, alias: LowPS
)
-
HighPS
(
type: esriFieldTypeDouble, alias: HighPS
)
-
Category
(
type: esriFieldTypeInteger, alias: Category
, Coded Values:
[0: Unknown]
, [1: Primary]
, [2: Overview]
, ...6 more...
)
-
Tag
(
type: esriFieldTypeString, alias: Tag, length: 20
)
-
GroupName
(
type: esriFieldTypeString, alias: GroupName, length: 50
)
-
ProductName
(
type: esriFieldTypeString, alias: ProductName, length: 50
)
-
CenterX
(
type: esriFieldTypeDouble, alias: CenterX
)
-
CenterY
(
type: esriFieldTypeDouble, alias: CenterY
)
-
ZOrder
(
type: esriFieldTypeInteger, alias: ZOrder
)
-
Shape_Length
(
type: esriFieldTypeDouble, alias: Shape_Length
)
-
Shape_Area
(
type: esriFieldTypeDouble, alias: Shape_Area
)
Default Mosaic Method: Northwest
Allowed Mosaic Methods: NorthWest,Center,LockRaster,ByAttribute,Nadir,Viewpoint,Seamline,None
SortField:
SortValue: null
Mosaic Operator: Blend
Default Compression Quality: 75
Default Resampling Method: Bilinear
Max Record Count: 1000
Max Image Height: 4100
Max Image Width: 15000
Max Download Image Count: 20
Max Mosaic Image Count: 20
Allow Raster Function: true
Allow Copy: null
Allow Analysis: null
Allow Compute TiePoints: false
Supports Statistics: true
Supports Advanced Queries: true
Use StandardizedQueries: true
Raster Type Infos:
Name: Raster Dataset
Description: Supports all ArcGIS Raster Datasets
Help:
Has Raster Attribute Table: false
Edit Fields Info: null
Ownership Based AccessControl For Rasters: null
Child Resources:
Info
Histograms
Key Properties
Legend
Raster Function Infos
Supported Operations:
Export Image
Query
Identify
Measure
Compute Histograms
Compute Statistics Histograms
Get Samples
Compute Class Statistics
Query Boundary
Compute Pixel Location
Validate
Project