View In:
ArcGIS JavaScript
ArcGIS Online Map Viewer
ArcGIS Earth
ArcMap
View Footprint In:
ArcGIS Online Map Viewer
Service Description: This imagery layer displays Florida Department of Revenue aerial imagery of Leon County, FL. The imagery was captured in November 1989 and January 1990 (the exact known dates are 11/17/1989, 1/11/1990, 1/13/1990 and 1/14/1990). The images were obtained from the Florida Department of Transportation: Aerial Photography Collections. https://www.fdot.gov/gis/aerialproducts.shtm. TLCGIS regularly uses digital orthophotos along with planimetric, hydrographic, and topographic data to support regulatory functions, land management and acquisition, planning, engineering and habitat restoration projects. However, this imagery is not ortho-rectified.
The images displayed in this service layer were manually scanned from hard copy then georeferenced, edge matched, and color balanced by TLCGIS staff. While TLCGIS staff georeferenced the images, we can make no claims as to the accuracy, uniformity of scale or lack of distortion. This imagery layer was published as a dynamic service from an ESRI mosaic data set. This imagery layer was published as a dynamic service from an ESRI mosaic data set.
Name: ImageryServices/TLC_Imagery1990_D_WM
Description: This imagery layer displays Florida Department of Revenue aerial imagery of Leon County, FL. The imagery was captured in November 1989 and January 1990 (the exact known dates are 11/17/1989, 1/11/1990, 1/13/1990 and 1/14/1990). The images were obtained from the Florida Department of Transportation: Aerial Photography Collections. https://www.fdot.gov/gis/aerialproducts.shtm. TLCGIS regularly uses digital orthophotos along with planimetric, hydrographic, and topographic data to support regulatory functions, land management and acquisition, planning, engineering and habitat restoration projects. However, this imagery is not ortho-rectified.
The images displayed in this service layer were manually scanned from hard copy then georeferenced, edge matched, and color balanced by TLCGIS staff. While TLCGIS staff georeferenced the images, we can make no claims as to the accuracy, uniformity of scale or lack of distortion. This imagery layer was published as a dynamic service from an ESRI mosaic data set. This imagery layer was published as a dynamic service from an ESRI mosaic data set.
Single Fused Map Cache: false
Extent:
XMin: -9430492.9679
YMin: 3538725.2356242742
XMax: -9348338.547957484
YMax: 3591950.572300001
Spatial Reference: 102100
(3857)
Initial Extent:
XMin: -9430492.9679
YMin: 3538725.2356242742
XMax: -9348338.547957484
YMax: 3591950.572300001
Spatial Reference: 102100
(3857)
Full Extent:
XMin: -9430492.9679
YMin: 3538725.2356242742
XMax: -9348338.547957484
YMax: 3591950.572300001
Spatial Reference: 102100
(3857)
Pixel Size X: 0.8221525923435026
Pixel Size Y: 0.8221525923435149
Band Count: 1
Pixel Type: U8
RasterFunction Infos: {"rasterFunctionInfos": [{
"name": "None",
"description": "",
"help": ""
}]}
Mensuration Capabilities: None
Has Histograms: true
Has Colormap: false
Has Multi Dimensions : false
Rendering Rule:
Min Scale: 0
Max Scale: 0
Copyright Text: TLCGIS, FDOR
Service Data Type: esriImageServiceDataTypeProcessed
Min Values: 26
Max Values: 255
Mean Values: 126.61141348138
Standard Deviation Values: 43.38643196877824
Object ID Field: OBJECTID
Fields:
-
OBJECTID
(
type: esriFieldTypeOID, alias: OBJECTID
)
-
Shape
(
type: esriFieldTypeGeometry, alias: Shape
)
-
Name
(
type: esriFieldTypeString, alias: Name, length: 50
)
-
MinPS
(
type: esriFieldTypeDouble, alias: MinPS
)
-
MaxPS
(
type: esriFieldTypeDouble, alias: MaxPS
)
-
LowPS
(
type: esriFieldTypeDouble, alias: LowPS
)
-
HighPS
(
type: esriFieldTypeDouble, alias: HighPS
)
-
Category
(
type: esriFieldTypeInteger, alias: Category
, Coded Values:
[0: Unknown]
, [1: Primary]
, [2: Overview]
, ...5 more...
)
-
Tag
(
type: esriFieldTypeString, alias: Tag, length: 20
)
-
GroupName
(
type: esriFieldTypeString, alias: GroupName, length: 50
)
-
ProductName
(
type: esriFieldTypeString, alias: ProductName, length: 50
)
-
CenterX
(
type: esriFieldTypeDouble, alias: CenterX
)
-
CenterY
(
type: esriFieldTypeDouble, alias: CenterY
)
-
ZOrder
(
type: esriFieldTypeInteger, alias: ZOrder
)
-
Shape_Length
(
type: esriFieldTypeDouble, alias: Shape_Length
)
-
Shape_Area
(
type: esriFieldTypeDouble, alias: Shape_Area
)
Default Mosaic Method: Seamline
Allowed Mosaic Methods: Seamline,NorthWest
SortField:
SortValue: null
Mosaic Operator: Blend
Default Compression Quality: 75
Default Resampling Method: Bilinear
Max Record Count: 1000
Max Image Height: 4100
Max Image Width: 15000
Max Download Image Count: 20
Max Mosaic Image Count: 20
Allow Raster Function: true
Allow Copy: null
Allow Analysis: null
Allow Compute TiePoints: false
Supports Statistics: true
Supports Advanced Queries: true
Use StandardizedQueries: true
Raster Type Infos:
Name: Raster Dataset
Description: Supports all ArcGIS Raster Datasets
Help:
Has Raster Attribute Table: false
Edit Fields Info: null
Ownership Based AccessControl For Rasters: null
Child Resources:
Info
Histograms
Key Properties
Legend
Raster Function Infos
Supported Operations:
Export Image
Query
Identify
Compute Histograms
Compute Statistics Histograms
Get Samples
Compute Class Statistics
Query Boundary
Compute Pixel Location
Validate
Project