{
 "currentVersion": 10.81,
 "serviceDescription": "Our 2021 high-resolution (0.5 ft. per pixel) imagery is available in Natural Color (Red, Green, Blue) and Color Infrared. The aerial imagery was captured by our vendor Dewberry during January 5 - 18, 2021. Prior to delivery, the vendor geometrically corrected (orthorectified) the imagery such that its scale is uniform and any distortions have been corrected. This process allows for an accurate representation of the earth's surface that can be used to measure true distances and extract GIS features. After delivery, TLCGIS staff performed additional quality control and enhancement processes to prepare the imagery for publication. \n\nThis Color Infrared (CIR) imagery more clearly shows natural features that often do not show up well in RGB imagery. A band of infrared imagery is converted to a visible spectrum so we can see it. CIR imagery is useful to environmental scientists and others who need to identify features such as wetlands. This imagery can also help experts determine the type and the health of vegetation. This imagery is also high-resolution.\n\nAcquisition Information: Dewberry Inc. subcontracted Digital Aerial Solutions (DAS) to acquire approximately 787 square miles of 4-band digital stereo aerial imagery in Leon County, Florida in January 2021 using a LEICA ADS100 aerial mapping camera. DAS performed the aerial triangulation and orthorectification to produce 0.5 foot pixel resolution digital orthophotos. Dewberry collected surveyed ground control points that were used in the aerial triangulation process. The data were formatted according to the Florida Division of Emergency Management (FDEM) tile naming convention with each tile covering an area of 5,000 by 5,000 feet. A total of 876 ortho tiles in GeoTiff format were produced for the project. This dataset is part of a regularly schedule update of lidar and digital orthophotography products.\n",
 "name": "ImageryServices/TLC_Imagery2021_CIR_D_WM",
 "description": "Our 2021 high-resolution (0.5 ft. per pixel) imagery is available in Natural Color (Red, Green, Blue) and Color Infrared. The aerial imagery was captured by our vendor Dewberry during January 5 - 18, 2021. Prior to delivery, the vendor geometrically corrected (orthorectified) the imagery such that its scale is uniform and any distortions have been corrected. This process allows for an accurate representation of the earth's surface that can be used to measure true distances and extract GIS features. After delivery, TLCGIS staff performed additional quality control and enhancement processes to prepare the imagery for publication. \n\nThis Color Infrared (CIR) imagery more clearly shows natural features that often do not show up well in RGB imagery. A band of infrared imagery is converted to a visible spectrum so we can see it. CIR imagery is useful to environmental scientists and others who need to identify features such as wetlands. This imagery can also help experts determine the type and the health of vegetation. This imagery is also high-resolution.\n\nAcquisition Information: Dewberry Inc. subcontracted Digital Aerial Solutions (DAS) to acquire approximately 787 square miles of 4-band digital stereo aerial imagery in Leon County, Florida in January 2021 using a LEICA ADS100 aerial mapping camera. DAS performed the aerial triangulation and orthorectification to produce 0.5 foot pixel resolution digital orthophotos. Dewberry collected surveyed ground control points that were used in the aerial triangulation process. The data were formatted according to the Florida Division of Emergency Management (FDEM) tile naming convention with each tile covering an area of 5,000 by 5,000 feet. A total of 876 ortho tiles in GeoTiff format were produced for the project. This dataset is part of a regularly schedule update of lidar and digital orthophotography products.\n",
 "extent": {
  "xmin": -9430491.4523,
  "ymin": 3538727.1825411003,
  "xmax": -9348366.12844935,
  "ymax": 3592006.633900003,
  "spatialReference": {
   "wkid": 102100,
   "latestWkid": 3857
  }
 },
 "initialExtent": {
  "xmin": -9430491.4523,
  "ymin": 3538727.1825411003,
  "xmax": -9348366.12844935,
  "ymax": 3592006.633900003,
  "spatialReference": {
   "wkid": 102100,
   "latestWkid": 3857
  }
 },
 "fullExtent": {
  "xmin": -9430491.4523,
  "ymin": 3538727.1825411003,
  "xmax": -9348366.12844935,
  "ymax": 3592006.633900003,
  "spatialReference": {
   "wkid": 102100,
   "latestWkid": 3857
  }
 },
 "pixelSizeX": 0.15240030480061104,
 "pixelSizeY": 0.15240030480060965,
 "bandCount": 3,
 "pixelType": "U8",
 "minPixelSize": 0,
 "maxPixelSize": 0,
 "copyrightText": "",
 "serviceDataType": "esriImageServiceDataTypeProcessed",
 "minValues": [
  0,
  0,
  0
 ],
 "maxValues": [
  255,
  255,
  255
 ],
 "meanValues": [
  139.46202348756262,
  68.41719277993238,
  65.81766720089249
 ],
 "stdvValues": [
  38.146744389366994,
  25.04680203747808,
  21.37685841326105
 ],
 "objectIdField": "OBJECTID",
 "fields": [
  {
   "name": "OBJECTID",
   "type": "esriFieldTypeOID",
   "alias": "OBJECTID",
   "domain": null
  },
  {
   "name": "Shape",
   "type": "esriFieldTypeGeometry",
   "alias": "Shape",
   "domain": null
  },
  {
   "name": "Name",
   "type": "esriFieldTypeString",
   "alias": "Name",
   "domain": null,
   "length": 200
  },
  {
   "name": "MinPS",
   "type": "esriFieldTypeDouble",
   "alias": "MinPS",
   "domain": null
  },
  {
   "name": "MaxPS",
   "type": "esriFieldTypeDouble",
   "alias": "MaxPS",
   "domain": null
  },
  {
   "name": "LowPS",
   "type": "esriFieldTypeDouble",
   "alias": "LowPS",
   "domain": null
  },
  {
   "name": "HighPS",
   "type": "esriFieldTypeDouble",
   "alias": "HighPS",
   "domain": null
  },
  {
   "name": "Category",
   "type": "esriFieldTypeInteger",
   "alias": "Category",
   "domain": {
    "type": "codedValue",
    "name": "MosaicCatalogItemCategoryDomain",
    "description": "Catalog item categories.",
    "codedValues": [
     {
      "name": "Unknown",
      "code": 0
     },
     {
      "name": "Primary",
      "code": 1
     },
     {
      "name": "Overview",
      "code": 2
     },
     {
      "name": "Unprocessed Overview",
      "code": 3
     },
     {
      "name": "Partial Overview",
      "code": 4
     },
     {
      "name": "Uploaded",
      "code": 253
     },
     {
      "name": "Incomplete",
      "code": 254
     },
     {
      "name": "Custom",
      "code": 255
     }
    ],
    "mergePolicy": "esriMPTDefaultValue",
    "splitPolicy": "esriSPTDefaultValue"
   }
  },
  {
   "name": "Tag",
   "type": "esriFieldTypeString",
   "alias": "Tag",
   "domain": null,
   "length": 100
  },
  {
   "name": "GroupName",
   "type": "esriFieldTypeString",
   "alias": "GroupName",
   "domain": null,
   "length": 100
  },
  {
   "name": "ProductName",
   "type": "esriFieldTypeString",
   "alias": "ProductName",
   "domain": null,
   "length": 100
  },
  {
   "name": "CenterX",
   "type": "esriFieldTypeDouble",
   "alias": "CenterX",
   "domain": null
  },
  {
   "name": "CenterY",
   "type": "esriFieldTypeDouble",
   "alias": "CenterY",
   "domain": null
  },
  {
   "name": "ZOrder",
   "type": "esriFieldTypeInteger",
   "alias": "ZOrder",
   "domain": null
  },
  {
   "name": "Shape_Length",
   "type": "esriFieldTypeDouble",
   "alias": "Shape_Length",
   "domain": null
  },
  {
   "name": "Shape_Area",
   "type": "esriFieldTypeDouble",
   "alias": "Shape_Area",
   "domain": null
  }
 ],
 "capabilities": "Catalog,Image,Metadata",
 "defaultMosaicMethod": "Northwest",
 "allowedMosaicMethods": "NorthWest,Center,LockRaster,ByAttribute,Nadir,Viewpoint,Seamline,None",
 "sortField": "",
 "sortValue": null,
 "sortAscending": true,
 "mosaicOperator": "First",
 "maxDownloadSizeLimit": 2048,
 "defaultCompressionQuality": 75,
 "defaultResamplingMethod": "Bilinear",
 "maxImageHeight": 4100,
 "maxImageWidth": 15000,
 "maxRecordCount": 1000,
 "maxDownloadImageCount": 20,
 "maxMosaicImageCount": 50,
 "allowRasterFunction": true,
 "rasterFunctionInfos": [
  {
   "name": "None",
   "description": "",
   "help": ""
  }
 ],
 "rasterTypeInfos": [
  {
   "name": "Raster Dataset",
   "description": "Supports all ArcGIS Raster Datasets",
   "help": ""
  }
 ],
 "mensurationCapabilities": "None",
 "hasHistograms": true,
 "hasColormap": false,
 "hasRasterAttributeTable": false,
 "minScale": 0,
 "maxScale": 0,
 "exportTilesAllowed": false,
 "hasMultidimensions": false,
 "supportsStatistics": true,
 "supportsAdvancedQueries": true,
 "editFieldsInfo": null,
 "ownershipBasedAccessControlForRasters": null,
 "allowComputeTiePoints": false,
 "useStandardizedQueries": true,
 "advancedQueryCapabilities": {
  "useStandardizedQueries": true,
  "supportsStatistics": true,
  "supportsOrderBy": true,
  "supportsDistinct": true,
  "supportsPagination": true
 },
 "spatialReference": {
  "wkid": 102100,
  "latestWkid": 3857
 }
}
