<?xml version="1.0" encoding="UTF-8" standalone="no"?>
<metadata xml:lang="en">
<Esri>
<CreaDate>20210824</CreaDate>
<CreaTime>16532300</CreaTime>
<ArcGISFormat>1.0</ArcGISFormat>
<SyncOnce>FALSE</SyncOnce>
<DataProperties>
<itemProps>
<itemName Sync="TRUE">Imagery_2021_CIR_D_WM</itemName>
<nativeExtBox>
<westBL Sync="TRUE">-9430491.452300</westBL>
<eastBL Sync="TRUE">-9348366.128449</eastBL>
<southBL Sync="TRUE">3538727.182541</southBL>
<northBL Sync="TRUE">3592006.633900</northBL>
<exTypeCode Sync="TRUE">1</exTypeCode>
</nativeExtBox>
</itemProps>
<coordRef>
<type Sync="TRUE">Projected</type>
<geogcsn Sync="TRUE">GCS_WGS_1984</geogcsn>
<csUnits Sync="TRUE">Linear Unit: Meter (1.000000)</csUnits>
<projcsn Sync="TRUE">WGS_1984_Web_Mercator_Auxiliary_Sphere</projcsn>
<peXml Sync="TRUE">&lt;ProjectedCoordinateSystem xsi:type='typens:ProjectedCoordinateSystem' xmlns:xsi='http://www.w3.org/2001/XMLSchema-instance' xmlns:xs='http://www.w3.org/2001/XMLSchema' xmlns:typens='http://www.esri.com/schemas/ArcGIS/10.4'&gt;&lt;WKT&gt;PROJCS[&amp;quot;WGS_1984_Web_Mercator_Auxiliary_Sphere&amp;quot;,GEOGCS[&amp;quot;GCS_WGS_1984&amp;quot;,DATUM[&amp;quot;D_WGS_1984&amp;quot;,SPHEROID[&amp;quot;WGS_1984&amp;quot;,6378137.0,298.257223563]],PRIMEM[&amp;quot;Greenwich&amp;quot;,0.0],UNIT[&amp;quot;Degree&amp;quot;,0.0174532925199433]],PROJECTION[&amp;quot;Mercator_Auxiliary_Sphere&amp;quot;],PARAMETER[&amp;quot;False_Easting&amp;quot;,0.0],PARAMETER[&amp;quot;False_Northing&amp;quot;,0.0],PARAMETER[&amp;quot;Central_Meridian&amp;quot;,0.0],PARAMETER[&amp;quot;Standard_Parallel_1&amp;quot;,0.0],PARAMETER[&amp;quot;Auxiliary_Sphere_Type&amp;quot;,0.0],UNIT[&amp;quot;Meter&amp;quot;,1.0],AUTHORITY[&amp;quot;EPSG&amp;quot;,3857]]&lt;/WKT&gt;&lt;XOrigin&gt;-20037700&lt;/XOrigin&gt;&lt;YOrigin&gt;-30241100&lt;/YOrigin&gt;&lt;XYScale&gt;148923141.92838538&lt;/XYScale&gt;&lt;ZOrigin&gt;-100000&lt;/ZOrigin&gt;&lt;ZScale&gt;10000&lt;/ZScale&gt;&lt;MOrigin&gt;-100000&lt;/MOrigin&gt;&lt;MScale&gt;10000&lt;/MScale&gt;&lt;XYTolerance&gt;0.001&lt;/XYTolerance&gt;&lt;ZTolerance&gt;0.001&lt;/ZTolerance&gt;&lt;MTolerance&gt;0.001&lt;/MTolerance&gt;&lt;HighPrecision&gt;true&lt;/HighPrecision&gt;&lt;WKID&gt;102100&lt;/WKID&gt;&lt;LatestWKID&gt;3857&lt;/LatestWKID&gt;&lt;/ProjectedCoordinateSystem&gt;</peXml>
</coordRef>
<RasterProperties>
<General>
<PixelDepth Sync="TRUE">8</PixelDepth>
<HasColormap Sync="TRUE">FALSE</HasColormap>
<CompressionType Sync="TRUE">None</CompressionType>
<NumBands Sync="TRUE">3</NumBands>
<Format Sync="TRUE">AMD</Format>
<HasPyramids Sync="TRUE">TRUE</HasPyramids>
<SourceType Sync="TRUE">continuous</SourceType>
<PixelType Sync="TRUE">unsigned integer</PixelType>
<NoDataValue Sync="TRUE">
</NoDataValue>
</General>
<Properties>
<MaxImageHeight Sync="TRUE">4100</MaxImageHeight>
<MaxImageWidth Sync="TRUE">15000</MaxImageWidth>
<MaxRecordCount Sync="TRUE">1000</MaxRecordCount>
<MaxDownloadImageCount Sync="TRUE">20</MaxDownloadImageCount>
<MaxDownloadSizeLimit Sync="TRUE">2048</MaxDownloadSizeLimit>
<MaxMosaicImageCount Sync="TRUE">50</MaxMosaicImageCount>
<DefaultCompressionQuality Sync="TRUE">75</DefaultCompressionQuality>
<DefaultCompressionTolerance Sync="TRUE">0.01</DefaultCompressionTolerance>
<BlendWidth Sync="TRUE">10</BlendWidth>
<ViewpointSpacingX Sync="TRUE">600</ViewpointSpacingX>
<ViewpointSpacingY Sync="TRUE">300</ViewpointSpacingY>
<AllowedItemMetadata Sync="TRUE">Basic</AllowedItemMetadata>
<DefaultResamplingMethod Sync="TRUE">1</DefaultResamplingMethod>
<AllowedMosaicMethods Sync="TRUE">NorthWest,Center,LockRaster,ByAttribute,Nadir,Viewpoint,Seamline,None</AllowedMosaicMethods>
<AllowedCompressions Sync="TRUE">JPEG,LZ77,LERC</AllowedCompressions>
<AllowedMensurationCapabilities Sync="TRUE">None</AllowedMensurationCapabilities>
<AvailableMensurationCapabilities Sync="TRUE">None,Basic,Base-Top Height,Top-Top Shadow Height,Base-Top Shadow Height,3D</AvailableMensurationCapabilities>
<ClipToBoundary Sync="TRUE">-1</ClipToBoundary>
<FootprintMayContainNoData Sync="TRUE">-1</FootprintMayContainNoData>
<CellSizeTolerance Sync="TRUE">0.8</CellSizeTolerance>
<MinimumPixelContribution Sync="TRUE">1</MinimumPixelContribution>
<AvailableMosaicMethods Sync="TRUE">NorthWest,Center,LockRaster,ByAttribute,Nadir,Viewpoint,Seamline,None</AvailableMosaicMethods>
<AvailableCompressionMethods Sync="TRUE">None,JPEG,LZ77,LERC</AvailableCompressionMethods>
<AvailableItemMetadataLevels Sync="TRUE">None,Basic,Full</AvailableItemMetadataLevels>
<ConfigKeyword Sync="TRUE">
</ConfigKeyword>
<BandDefinitionKeyword Sync="TRUE">CUSTOM</BandDefinitionKeyword>
<AllowedFields Sync="TRUE">Name,MinPS,MaxPS,LowPS,HighPS,Tag,GroupName,ProductName,CenterX,CenterY,ZOrder,Shape_Length,Shape_Area</AllowedFields>
<ApplyColorCorrection Sync="TRUE">0</ApplyColorCorrection>
<TimeValueFormat Sync="TRUE">
</TimeValueFormat>
<EndTimeFieldName Sync="TRUE">
</EndTimeFieldName>
<StartTimeFieldName Sync="TRUE">
</StartTimeFieldName>
<TimeIntervalUnits Sync="TRUE">
</TimeIntervalUnits>
<TimeInterval Sync="TRUE">
</TimeInterval>
<VerticalDimension Sync="TRUE">
</VerticalDimension>
<FlowDirection Sync="TRUE">
</FlowDirection>
<MosaicOperator Sync="TRUE">1</MosaicOperator>
<BlendWidthUnits Sync="TRUE">1</BlendWidthUnits>
<UseTime Sync="TRUE">0</UseTime>
<SortAscending Sync="TRUE">-1</SortAscending>
<ClipToFootprint Sync="TRUE">0</ClipToFootprint>
<SortField Sync="TRUE">Name</SortField>
<SortValue Sync="TRUE">0</SortValue>
<MaxCellSize Sync="TRUE">22219.9644399289</MaxCellSize>
<LowCellSize Sync="TRUE">0.15240030480061</LowCellSize>
<HighCellSize Sync="TRUE">444.399288798578</HighCellSize>
<DataType Sync="TRUE">Processed</DataType>
</Properties>
<Functions Sync="TRUE">
<Function Description="Enhances an image by changing properties such as brightness, contrast and gamma through multiple stretch types." Name="Stretch Function">
<Arguments>
<Raster>ContrastAndBrightnessFunction.OutputRaster</Raster>
<Statistics>0.000000 239.000000 113.356175 44.967401 0.000000 228.000000 53.321021 32.445270 0.000000 232.000000 48.168801 27.945819</Statistics>
<Gamma>1.061576 1.441330 1.455353</Gamma>
<UseGamma>-1</UseGamma>
<ComputeGamma>-1</ComputeGamma>
<MinPercent>0.5</MinPercent>
<MaxPercent>0.5</MaxPercent>
<StretchType>3</StretchType>
<DRA>0</DRA>
<Min>0</Min>
<Max>253</Max>
<EstimateStatsHistogram>0</EstimateStatsHistogram>
<NumberOfStandardDeviation>1.8</NumberOfStandardDeviation>
</Arguments>
</Function>
<Function Description="Adjusts the raster contrast and brightness." Name="Contrast And Brightness Function">
<Arguments>
<Raster>MosaicFunction.OutputRaster</Raster>
<ContrastOffset>0</ContrastOffset>
<BrightnessOffset>-13</BrightnessOffset>
</Arguments>
</Function>
<Function Description="Performs on-the-fly mosaic on a raster catalog." Name="Mosaic Function">
</Function>
</Functions>
</RasterProperties>
</DataProperties>
<SyncDate>20210903</SyncDate>
<SyncTime>16013300</SyncTime>
<ModDate>20210903</ModDate>
<ModTime>16013300</ModTime>
</Esri>
<mdLang>
<languageCode value="eng">
</languageCode>
<countryCode Sync="TRUE" value="USA">
</countryCode>
</mdLang>
<mdChar>
<CharSetCd value="004">
</CharSetCd>
</mdChar>
<mdHrLv>
<ScopeCd value="005">
</ScopeCd>
</mdHrLv>
<mdContact>
<rpIndName>Ray Miller</rpIndName>
<rpOrgName>Dewberry</rpOrgName>
<rpPosName>Project Manager</rpPosName>
<rpCntInfo>
<cntPhone>
<voiceNum>(813) 421-8641</voiceNum>
</cntPhone>
<cntAddress addressType="both">
<delPoint>1000 N Ashley Dr, Suite 801</delPoint>
<city>Tampa</city>
<adminArea>FL</adminArea>
<postCode>33602</postCode>
<country>US</country>
<eMailAdd>rmiller@dewberry.com</eMailAdd>
</cntAddress>
</rpCntInfo>
<role>
<RoleCd value="007">
</RoleCd>
</role>
</mdContact>
<mdDateSt Sync="TRUE">20210903</mdDateSt>
<mdStanName>ArcGIS Metadata</mdStanName>
<mdStanVer>1.0</mdStanVer>
<distInfo>
<distributor>
<distorCont>
<rpIndName>Greg Mauldin</rpIndName>
<rpOrgName>Tallahassee-Leon County GIS</rpOrgName>
<rpPosName>GIS Project Manager</rpPosName>
<rpCntInfo>
<cntPhone>
<voiceNum>(850) 606-5587</voiceNum>
</cntPhone>
<cntAddress addressType="both">
<delPoint>County Courthouse 301 South Monroe Street Room P313-F</delPoint>
<city>Tallahassee</city>
<adminArea>FL</adminArea>
<postCode>32301</postCode>
<country>US</country>
<eMailAdd>MauldinG@leoncountyfl.gov</eMailAdd>
</cntAddress>
</rpCntInfo>
<role>
<RoleCd value="005">
</RoleCd>
</role>
</distorCont>
<distorOrdPrc>
<resFees>There are no fees for retrieving or using this dataset.</resFees>
</distorOrdPrc>
<distorFormat>
<formatName>Digital Data</formatName>
</distorFormat>
<distorTran>
<onLineSrc>
<linkage>https://tlcgis.org</linkage>
</onLineSrc>
</distorTran>
</distributor>
</distInfo>
<dataIdInfo>
<idCitation>
<resTitle Sync="TRUE">Imagery_2021_CIR_D_WM</resTitle>
<date>
<pubDate>2021-01-19</pubDate>
</date>
<citRespParty>
<rpOrgName>Dewberry 1000 N. Ashley Dr. Suite 801, Tampa, FL 33602</rpOrgName>
<role>
<RoleCd value="006">
</RoleCd>
</role>
</citRespParty>
<presForm>
<fgdcGeoform>Ortho-Imagery</fgdcGeoform>
<PresFormCd Sync="TRUE" value="005">
</PresFormCd>
</presForm>
</idCitation>
<idAbs>Our 2021 high-resolution (0.5 ft. per pixel) imagery is available in Natural Color (Red, Green, Blue) and Color Infrared. The aerial imagery was captured by our vendor Dewberry during January 5 - 18, 2021. Prior to delivery, the vendor geometrically corrected (orthorectified) the imagery such that its scale is uniform and any distortions have been corrected. This process allows for an accurate representation of the earth's surface that can be used to measure true distances and extract GIS features. After delivery, TLCGIS staff performed additional quality control and enhancement processes to prepare the imagery for publication. This Color Infrared (CIR) imagery more clearly shows natural features that often do not show up well in RGB imagery. A band of infrared imagery is converted to a visible spectrum so we can see it. CIR imagery is useful to environmental scientists and others who need to identify features such as wetlands. This imagery can also help experts determine the type and the health of vegetation. This imagery is also high-resolution.
Acquisition Information: Dewberry Inc. subcontracted Digital Aerial Solutions (DAS) to acquire approximately 787 square miles of 4-band digital stereo aerial imagery in Leon County, Florida in January 2021 using a LEICA ADS100 aerial mapping camera. DAS performed the aerial triangulation and orthorectification to produce 0.5 foot pixel resolution digital orthophotos. Dewberry collected surveyed ground control points that were used in the aerial triangulation process. The data were formatted according to the Florida Division of Emergency Management (FDEM) tile naming convention with each tile covering an area of 5,000 by 5,000 feet. A total of 876 ortho tiles in GeoTiff format were produced for the project. This dataset is part of a regularly schedule update of lidar and digital orthophotography products.
</idAbs>
<idPurp>January 2021 High-resolution color infrared orthoimagery of Tallahassee and Leon County, Florida.</idPurp>
<idStatus>
<ProgCd value="001">
</ProgCd>
</idStatus>
<idPoC>
<rpIndName>Greg Mauldin</rpIndName>
<rpOrgName>TLCGIS</rpOrgName>
<rpPosName>GIS Project Manager</rpPosName>
<rpCntInfo>
<cntPhone>
<voiceNum>(850) 606-5587</voiceNum>
</cntPhone>
<cntAddress addressType="both">
<delPoint>County Courthouse 301 South Monroe Street Room P313-F</delPoint>
<city>Tallahassee</city>
<adminArea>FL</adminArea>
<postCode>32301</postCode>
<country>US</country>
<eMailAdd>MauldinG@leoncountyfl.gov</eMailAdd>
</cntAddress>
</rpCntInfo>
<role>
<RoleCd value="007">
</RoleCd>
</role>
</idPoC>
<resMaint>
<maintFreq>
<MaintFreqCd value="009">
</MaintFreqCd>
</maintFreq>
</resMaint>
<placeKeys>
<keyword>Florida</keyword>
<keyword>Tallahassee</keyword>
<keyword>Leon County</keyword>
<keyword>USA</keyword>
</placeKeys>
<themeKeys>
<keyword>Orthophotography</keyword>
</themeKeys>
<searchKeys>
<keyword>Florida</keyword>
<keyword> Tallahassee</keyword>
<keyword> Orthophotography</keyword>
<keyword> Leon County</keyword>
<keyword> USA</keyword>
<keyword> CIR</keyword>
<keyword> color infrared</keyword>
<keyword> dop</keyword>
<keyword> 2021</keyword>
</searchKeys>
<resConst>
<LegConsts>
<useLimit>No warranty expressed or implied is made by Leon County Government regarding the utility of the data on any other system, nor shall the act of distribution constitute any such warranty.</useLimit>
<othConsts>No restrictions apply to these data.</othConsts>
</LegConsts>
</resConst>
<resConst>
<Consts>
<useLimit>The information depicted in this GIS layer is the result of digital analyses performed on a database consisting of information from a variety of governmental and other credible sources. The accuracy of the information presented is limited to the collective accuracy of the database on the date of the analysis. The information is believed accurate and reasonable efforts have been made to ensure the accuracy of the data. However, TLC/GIS expressly disclaims responsibility for damages or liability that may arise from use of this data. This product is the property of Tallahassee/Leon County GIS and its use is thereby restricted.</useLimit>
</Consts>
</resConst>
<dataLang>
<languageCode value="eng">
</languageCode>
<countryCode Sync="TRUE" value="USA">
</countryCode>
</dataLang>
<envirDesc Sync="TRUE"> Version 6.2 (Build 9200) ; Esri ArcGIS 10.4.1.5686</envirDesc>
<dataExt>
<geoEle>
<GeoBndBox>
<westBL>-84.7179</westBL>
<eastBL>-83.9703</eastBL>
<southBL>30.2638</southBL>
<northBL>30.691</northBL>
</GeoBndBox>
</geoEle>
</dataExt>
<dataExt>
<exDesc>ground condition</exDesc>
<tempEle>
<TempExtent>
<exTemp>
<TM_Period>
<tmBegin>2021-01-05</tmBegin>
<tmEnd>2021-01-18</tmEnd>
</TM_Period>
</exTemp>
</TempExtent>
</tempEle>
<geoEle>
</geoEle>
</dataExt>
<suppInfo>A complete description of this dataset is available in the Final Project Report submitted to the TLCGIS.</suppInfo>
<spatRpType>
<SpatRepTypCd Sync="TRUE" value="002">
</SpatRepTypCd>
</spatRpType>
<dataExt>
<geoEle>
<GeoBndBox esriExtentType="search">
<exTypeCode Sync="TRUE">1</exTypeCode>
<westBL Sync="TRUE">-84.715546</westBL>
<eastBL Sync="TRUE">-83.977802</eastBL>
<northBL Sync="TRUE">30.685765</northBL>
<southBL Sync="TRUE">30.273289</southBL>
</GeoBndBox>
</geoEle>
</dataExt>
<idCredit/>
</dataIdInfo>
<dqInfo>
<dqScope>
<scpLvl>
<ScopeCd value="005">
</ScopeCd>
</scpLvl>
</dqScope>
<report type="DQConcConsis">
<measDesc>Imagery covers the project boundary.</measDesc>
</report>
<report type="DQCompOm">
<measDesc>A visual qualitative assessment was performed to ensure data completeness and full tiles. No void or missing imagery exists.</measDesc>
</report>
<report type="DQQuanAttAcc">
<measDesc>See Horizontal and Vertical Accuracy reports. There are no Attributes in this data set.</measDesc>
</report>
<report dimension="horizontal" type="DQAbsExtPosAcc">
<measDesc>The tested horizontal accuracy at the 95% confidence level (ACCURACYr) of the ortho-mosaic computed using RMSEr*1.7308 equaled 0.88 ft (2-pixel) which exceeds the accuracy requirement of 3.8 ft or better. Absolute horizontal accuracy of the ortho-mosaic equaled 0.51 ft RMSE which exceeds the requirement of 2.2 ft RMSE or better.</measDesc>
</report>
<report dimension="vertical" type="DQAbsExtPosAcc">
<measDesc>Not applicable</measDesc>
</report>
<dataLineage>
<prcStep>
<stepDesc>Data for the Leon County Aerial Imagery Project was acquired by Digital Aerial Solutions, LLC (DAS). The project area included approximately 786 contiguous square miles for Leon County, Florida. The imagery collected was collected by Digital Aerial Solutions, LLC (DAS) using a LECIA ADS100 digital aerial mapping camera. The data were delivered in the State Plane coordinate system, U.S. Survey Feet, Florida North, horizontal datum NAD83 (2011), vertical datum NAVD88, Geoid 12B. A combination of airborne kinematic GPS/IMU and standard ground control points was used to control the images for aerial triangulation (AT). All aerial images were controlled using airborne kinematic GPS and IMU positioning techniques with sufficient accuracy to control the bundle adjustment. Forty-six (46) ground control points were surveyed by Dewberry to control the aerial imagery. Eight (8) of these control points were existing painted targets used in previous airborne surveys in Leon County. All control points are located at well-defined photo-identifiable positions. Softcopy analytical AT was done using Leica XPro imagery postprocessing software. The process included automatic point matching (measuring) and a leastsquares-simultaneous-robust bundle-block adjustment. All images were included in one block. Orthorectification was performed using OrthoVista. The orthoimagery was mosaicked and radiometrically balanced to ensure tonal consistency. The final pixel resolution is half-foot (0.50'). The orthoimagery meets National Map Accuracy Standards.</stepDesc>
<stepDateTm>2021-01-19</stepDateTm>
</prcStep>
</dataLineage>
</dqInfo>
<spatRepInfo>
<Georect>
<numDims Sync="TRUE">2</numDims>
<axisDimension type="001">
<dimSize Sync="TRUE">349602</dimSize>
<dimResol>
<value Sync="TRUE" uom="m">0.152400</value>
</dimResol>
</axisDimension>
<axisDimension type="002">
<dimSize Sync="TRUE">538879</dimSize>
<dimResol>
<value Sync="TRUE" uom="m">0.152400</value>
</dimResol>
</axisDimension>
<cellGeo>
<CellGeoCd Sync="TRUE" value="002">
</CellGeoCd>
</cellGeo>
<tranParaAv Sync="TRUE">1</tranParaAv>
<chkPtAv Sync="TRUE">0</chkPtAv>
<cornerPts>
<pos Sync="TRUE">-9430491.452300 3538727.182541</pos>
</cornerPts>
<cornerPts>
<pos Sync="TRUE">-9430491.452300 3592006.633900</pos>
</cornerPts>
<cornerPts>
<pos Sync="TRUE">-9348366.128449 3592006.633900</pos>
</cornerPts>
<cornerPts>
<pos Sync="TRUE">-9348366.128449 3538727.182541</pos>
</cornerPts>
<centerPt>
<pos Sync="TRUE">-9389428.790375 3565366.908221</pos>
</centerPt>
<ptInPixel>
<PixOrientCd Sync="TRUE" value="001">
</PixOrientCd>
</ptInPixel>
</Georect>
</spatRepInfo>
<refSysInfo>
<RefSystem>
<refSysID>
<identCode Sync="TRUE" code="3857">
</identCode>
<idCodeSpace Sync="TRUE">EPSG</idCodeSpace>
<idVersion Sync="TRUE">8.8(9.3.1.2)</idVersion>
</refSysID>
</RefSystem>
</refSysInfo>
<contInfo>
<ImgDesc>
<contentTyp>
<ContentTypCd Sync="TRUE" value="001">
</ContentTypCd>
</contentTyp>
<covDim>
<Band>
<dimDescrp Sync="TRUE">Red</dimDescrp>
<maxVal Sync="TRUE">255.000000</maxVal>
<minVal Sync="TRUE">0.000000</minVal>
<bitsPerVal Sync="TRUE">8</bitsPerVal>
<valUnit>
<UOM type="length">
</UOM>
</valUnit>
</Band>
<Band>
<dimDescrp Sync="TRUE">Green</dimDescrp>
<maxVal Sync="TRUE">255.000000</maxVal>
<minVal Sync="TRUE">0.000000</minVal>
<bitsPerVal Sync="TRUE">8</bitsPerVal>
<valUnit>
<UOM type="length">
</UOM>
</valUnit>
</Band>
<Band>
<dimDescrp Sync="TRUE">Blue</dimDescrp>
<maxVal Sync="TRUE">255.000000</maxVal>
<minVal Sync="TRUE">0.000000</minVal>
<bitsPerVal Sync="TRUE">8</bitsPerVal>
<valUnit>
<UOM type="length">
</UOM>
</valUnit>
</Band>
</covDim>
</ImgDesc>
</contInfo>
</metadata>
