{
 "currentVersion": 10.81,
 "serviceDescription": "Our 2018 high-resolution (0.5 ft. per pixel) imagery is available in Natural Color (Red, Green, Blue) and Color Infrared. The aerial imagery was captured by our vendor Dewberry during January 30-31, 2018. Prior to delivery, the vendor geometrically corrected (orthorectified) the imagery such that the its scale is uniform and any distortions have been corrected. This process allows for an accurate representation of the earth's surface that can be used to measure true distances and extract GIS features. After delivery, TLCGIS staff performed additional quality control and enhancement processes to prepare the imagery for publication. \n\nThis Natural Color (RGB) imagery shows the colors visible to the human eye. This is high-resolution imagery and we think you will appreciate the fine details visible in these images.\n\nAcquisition Information: Digital Aerial Solutions (DAS) collected approximately 787 square miles of 4-band digital stereo aerial imagery in Leon County, Florida in January 2018 using a LEICA ADS100 aerial mapping camera. DAS performed the aerial triangulation and orthorectification to produce 0.5 foot pixel resolution digital orthophotos. Dewberry collected surveyed ground control points that were used in the aerial triangulation process. The data were formatted according to the Florida Division of Emergency Management (FDEM) tile naming convention with each tile covering an area of 5,000 feet by 5,000 ft. A total of 876 ortho tiles in GeoTiff format were produced for the project. This dataset is part of a regularly schedule update of lidar and digital orthophotography products.",
 "name": "ImageryServices/TLC_Imagery2018_RGB_D_WM",
 "description": "Our 2018 high-resolution (0.5 ft. per pixel) imagery is available in Natural Color (Red, Green, Blue) and Color Infrared. The aerial imagery was captured by our vendor Dewberry during January 30-31, 2018. Prior to delivery, the vendor geometrically corrected (orthorectified) the imagery such that the its scale is uniform and any distortions have been corrected. This process allows for an accurate representation of the earth's surface that can be used to measure true distances and extract GIS features. After delivery, TLCGIS staff performed additional quality control and enhancement processes to prepare the imagery for publication. \n\nThis Natural Color (RGB) imagery shows the colors visible to the human eye. This is high-resolution imagery and we think you will appreciate the fine details visible in these images.\n\nAcquisition Information: Digital Aerial Solutions (DAS) collected approximately 787 square miles of 4-band digital stereo aerial imagery in Leon County, Florida in January 2018 using a LEICA ADS100 aerial mapping camera. DAS performed the aerial triangulation and orthorectification to produce 0.5 foot pixel resolution digital orthophotos. Dewberry collected surveyed ground control points that were used in the aerial triangulation process. The data were formatted according to the Florida Division of Emergency Management (FDEM) tile naming convention with each tile covering an area of 5,000 feet by 5,000 ft. A total of 876 ortho tiles in GeoTiff format were produced for the project. This dataset is part of a regularly schedule update of lidar and digital orthophotography products.",
 "extent": {
  "xmin": -9430491.452263629,
  "ymin": 3538727.1525140246,
  "xmax": -9348366.12841298,
  "ymax": 3591969.265798251,
  "spatialReference": {
   "wkid": 102100,
   "latestWkid": 3857
  }
 },
 "initialExtent": {
  "xmin": -9430491.452263629,
  "ymin": 3538727.1525140246,
  "xmax": -9348366.12841298,
  "ymax": 3591969.265798251,
  "spatialReference": {
   "wkid": 102100,
   "latestWkid": 3857
  }
 },
 "fullExtent": {
  "xmin": -9430491.452263629,
  "ymin": 3538727.1525140246,
  "xmax": -9348366.12841298,
  "ymax": 3591969.265798251,
  "spatialReference": {
   "wkid": 102100,
   "latestWkid": 3857
  }
 },
 "pixelSizeX": 0.15240030480061104,
 "pixelSizeY": 0.15240030480060943,
 "bandCount": 3,
 "pixelType": "U8",
 "minPixelSize": 0,
 "maxPixelSize": 0,
 "copyrightText": "",
 "serviceDataType": "esriImageServiceDataTypeProcessed",
 "minValues": [
  0,
  0,
  0
 ],
 "maxValues": [
  255,
  255,
  255
 ],
 "meanValues": [
  60.69305903060761,
  54.51857981285544,
  46.46873701499617
 ],
 "stdvValues": [
  21.562108872109157,
  20.23641563264981,
  17.223915244613213
 ],
 "objectIdField": "OBJECTID",
 "fields": [
  {
   "name": "OBJECTID",
   "type": "esriFieldTypeOID",
   "alias": "OBJECTID",
   "domain": null
  },
  {
   "name": "Shape",
   "type": "esriFieldTypeGeometry",
   "alias": "Shape",
   "domain": null
  },
  {
   "name": "Name",
   "type": "esriFieldTypeString",
   "alias": "Name",
   "domain": null,
   "length": 200
  },
  {
   "name": "MinPS",
   "type": "esriFieldTypeDouble",
   "alias": "MinPS",
   "domain": null
  },
  {
   "name": "MaxPS",
   "type": "esriFieldTypeDouble",
   "alias": "MaxPS",
   "domain": null
  },
  {
   "name": "LowPS",
   "type": "esriFieldTypeDouble",
   "alias": "LowPS",
   "domain": null
  },
  {
   "name": "HighPS",
   "type": "esriFieldTypeDouble",
   "alias": "HighPS",
   "domain": null
  },
  {
   "name": "Category",
   "type": "esriFieldTypeInteger",
   "alias": "Category",
   "domain": {
    "type": "codedValue",
    "name": "MosaicCatalogItemCategoryDomain",
    "description": "Catalog item categories.",
    "codedValues": [
     {
      "name": "Unknown",
      "code": 0
     },
     {
      "name": "Primary",
      "code": 1
     },
     {
      "name": "Overview",
      "code": 2
     },
     {
      "name": "Unprocessed Overview",
      "code": 3
     },
     {
      "name": "Partial Overview",
      "code": 4
     },
     {
      "name": "Uploaded",
      "code": 253
     },
     {
      "name": "Incomplete",
      "code": 254
     },
     {
      "name": "Custom",
      "code": 255
     }
    ],
    "mergePolicy": "esriMPTDefaultValue",
    "splitPolicy": "esriSPTDefaultValue"
   }
  },
  {
   "name": "Tag",
   "type": "esriFieldTypeString",
   "alias": "Tag",
   "domain": null,
   "length": 100
  },
  {
   "name": "GroupName",
   "type": "esriFieldTypeString",
   "alias": "GroupName",
   "domain": null,
   "length": 100
  },
  {
   "name": "ProductName",
   "type": "esriFieldTypeString",
   "alias": "ProductName",
   "domain": null,
   "length": 100
  },
  {
   "name": "CenterX",
   "type": "esriFieldTypeDouble",
   "alias": "CenterX",
   "domain": null
  },
  {
   "name": "CenterY",
   "type": "esriFieldTypeDouble",
   "alias": "CenterY",
   "domain": null
  },
  {
   "name": "ZOrder",
   "type": "esriFieldTypeInteger",
   "alias": "ZOrder",
   "domain": null
  },
  {
   "name": "Shape_Length",
   "type": "esriFieldTypeDouble",
   "alias": "Shape_Length",
   "domain": null
  },
  {
   "name": "Shape_Area",
   "type": "esriFieldTypeDouble",
   "alias": "Shape_Area",
   "domain": null
  }
 ],
 "capabilities": "Catalog,Mensuration,Image,Metadata",
 "defaultMosaicMethod": "Northwest",
 "allowedMosaicMethods": "NorthWest,Center,LockRaster,ByAttribute,Nadir,Viewpoint,Seamline,None",
 "sortField": "",
 "sortValue": null,
 "sortAscending": true,
 "mosaicOperator": "First",
 "maxDownloadSizeLimit": 2048,
 "defaultCompressionQuality": 75,
 "defaultResamplingMethod": "Bilinear",
 "maxImageHeight": 4100,
 "maxImageWidth": 15000,
 "maxRecordCount": 1000,
 "maxDownloadImageCount": 20,
 "maxMosaicImageCount": 40,
 "allowRasterFunction": true,
 "rasterFunctionInfos": [
  {
   "name": "None",
   "description": "",
   "help": ""
  }
 ],
 "rasterTypeInfos": [
  {
   "name": "Raster Dataset",
   "description": "Supports all ArcGIS Raster Datasets",
   "help": ""
  }
 ],
 "mensurationCapabilities": "Basic",
 "hasHistograms": true,
 "hasColormap": false,
 "hasRasterAttributeTable": false,
 "minScale": 0,
 "maxScale": 0,
 "exportTilesAllowed": false,
 "hasMultidimensions": false,
 "supportsStatistics": true,
 "supportsAdvancedQueries": true,
 "editFieldsInfo": null,
 "ownershipBasedAccessControlForRasters": null,
 "allowComputeTiePoints": false,
 "useStandardizedQueries": true,
 "advancedQueryCapabilities": {
  "useStandardizedQueries": true,
  "supportsStatistics": true,
  "supportsOrderBy": true,
  "supportsDistinct": true,
  "supportsPagination": true
 },
 "spatialReference": {
  "wkid": 102100,
  "latestWkid": 3857
 }
}
