{
 "currentVersion": 10.81,
 "serviceDescription": "Our 2015 high-resolution (0.5 ft. per pixel) orthoimagery is available in Natural Color (Red, Green, Blue). This aerial imagery was captured by our vendor Merrick and Co. The imagery was collected from January 18, 2015 to February 5, 2015. Prior to delivery, the vendor geometrically corrected (orthorectified) the imagery such that the its scale is uniform and any distortions have been corrected. This process allows for an accurate representation of the earth's surface that can be used to measure true distances and extract GIS features. After delivery, TLCGIS staff performed additional quality control and enhancement processes to prepare the imagery for publication. \n\nThis Natural Color (RGB) imagery shows the colors visible to the human eye. This is high-resolution imagery and you will appreciate the fine details visible in these images. \n\nAcquisition Information: This dataset is part of a regularly scheduled update of LiDAR and digital orthotography products. The dataset was created from source imagery acquired by a Trimble TAC80 natural color digital camera and LAS data acquired by a Optech ALTM HA500 (Pegasus) LIDAR sensor from January 18, 2015 to February 5, 2015.\n",
 "name": "ImageryServices/TLC_Imagery2015_D_WM",
 "description": "Our 2015 high-resolution (0.5 ft. per pixel) orthoimagery is available in Natural Color (Red, Green, Blue). This aerial imagery was captured by our vendor Merrick and Co. The imagery was collected from January 18, 2015 to February 5, 2015. Prior to delivery, the vendor geometrically corrected (orthorectified) the imagery such that the its scale is uniform and any distortions have been corrected. This process allows for an accurate representation of the earth's surface that can be used to measure true distances and extract GIS features. After delivery, TLCGIS staff performed additional quality control and enhancement processes to prepare the imagery for publication. \n\nThis Natural Color (RGB) imagery shows the colors visible to the human eye. This is high-resolution imagery and you will appreciate the fine details visible in these images. \n\nAcquisition Information: This dataset is part of a regularly scheduled update of LiDAR and digital orthotography products. The dataset was created from source imagery acquired by a Trimble TAC80 natural color digital camera and LAS data acquired by a Optech ALTM HA500 (Pegasus) LIDAR sensor from January 18, 2015 to February 5, 2015.\n",
 "extent": {
  "xmin": -9430490.9917,
  "ymin": 3538726.4150581444,
  "xmax": -9348365.515449047,
  "ymax": 3591947.3447000035,
  "spatialReference": {
   "wkid": 102100,
   "latestWkid": 3857
  }
 },
 "initialExtent": {
  "xmin": -9430490.9917,
  "ymin": 3538726.4150581444,
  "xmax": -9348365.515449047,
  "ymax": 3591947.3447000035,
  "spatialReference": {
   "wkid": 102100,
   "latestWkid": 3857
  }
 },
 "fullExtent": {
  "xmin": -9430490.9917,
  "ymin": 3538726.4150581444,
  "xmax": -9348365.515449047,
  "ymax": 3591947.3447000035,
  "spatialReference": {
   "wkid": 102100,
   "latestWkid": 3857
  }
 },
 "pixelSizeX": 0.15240030480060887,
 "pixelSizeY": 0.1524003048006092,
 "bandCount": 3,
 "pixelType": "U8",
 "minPixelSize": 0,
 "maxPixelSize": 0,
 "copyrightText": "",
 "serviceDataType": "esriImageServiceDataTypeRGB",
 "minValues": [
  0,
  0,
  0
 ],
 "maxValues": [
  255,
  255,
  255
 ],
 "meanValues": [
  77.05649477878391,
  85.94251671768771,
  84.96498215904022
 ],
 "stdvValues": [
  58.85202583195846,
  51.780632768813355,
  36.736934022561066
 ],
 "objectIdField": "OBJECTID",
 "fields": [
  {
   "name": "OBJECTID",
   "type": "esriFieldTypeOID",
   "alias": "OBJECTID",
   "domain": null
  },
  {
   "name": "Shape",
   "type": "esriFieldTypeGeometry",
   "alias": "Shape",
   "domain": null
  },
  {
   "name": "Name",
   "type": "esriFieldTypeString",
   "alias": "Name",
   "domain": null,
   "length": 200
  },
  {
   "name": "MinPS",
   "type": "esriFieldTypeDouble",
   "alias": "MinPS",
   "domain": null
  },
  {
   "name": "MaxPS",
   "type": "esriFieldTypeDouble",
   "alias": "MaxPS",
   "domain": null
  },
  {
   "name": "LowPS",
   "type": "esriFieldTypeDouble",
   "alias": "LowPS",
   "domain": null
  },
  {
   "name": "HighPS",
   "type": "esriFieldTypeDouble",
   "alias": "HighPS",
   "domain": null
  },
  {
   "name": "Category",
   "type": "esriFieldTypeInteger",
   "alias": "Category",
   "domain": {
    "type": "codedValue",
    "name": "MosaicCatalogItemCategoryDomain",
    "description": "Catalog item categories.",
    "codedValues": [
     {
      "name": "Unknown",
      "code": 0
     },
     {
      "name": "Primary",
      "code": 1
     },
     {
      "name": "Overview",
      "code": 2
     },
     {
      "name": "Unprocessed Overview",
      "code": 3
     },
     {
      "name": "Partial Overview",
      "code": 4
     },
     {
      "name": "Inactive",
      "code": 5
     },
     {
      "name": "Uploaded",
      "code": 253
     },
     {
      "name": "Incomplete",
      "code": 254
     },
     {
      "name": "Custom",
      "code": 255
     }
    ],
    "mergePolicy": "esriMPTDefaultValue",
    "splitPolicy": "esriSPTDefaultValue"
   }
  },
  {
   "name": "Tag",
   "type": "esriFieldTypeString",
   "alias": "Tag",
   "domain": null,
   "length": 100
  },
  {
   "name": "GroupName",
   "type": "esriFieldTypeString",
   "alias": "GroupName",
   "domain": null,
   "length": 100
  },
  {
   "name": "ProductName",
   "type": "esriFieldTypeString",
   "alias": "ProductName",
   "domain": null,
   "length": 100
  },
  {
   "name": "CenterX",
   "type": "esriFieldTypeDouble",
   "alias": "CenterX",
   "domain": null
  },
  {
   "name": "CenterY",
   "type": "esriFieldTypeDouble",
   "alias": "CenterY",
   "domain": null
  },
  {
   "name": "ZOrder",
   "type": "esriFieldTypeInteger",
   "alias": "ZOrder",
   "domain": null
  },
  {
   "name": "Shape_Length",
   "type": "esriFieldTypeDouble",
   "alias": "Shape_Length",
   "domain": null
  },
  {
   "name": "Shape_Area",
   "type": "esriFieldTypeDouble",
   "alias": "Shape_Area",
   "domain": null
  }
 ],
 "capabilities": "Catalog,Image,Metadata",
 "defaultMosaicMethod": "Northwest",
 "allowedMosaicMethods": "NorthWest,Center,LockRaster,ByAttribute,Nadir,Viewpoint,Seamline,None",
 "sortField": "",
 "sortValue": null,
 "sortAscending": true,
 "mosaicOperator": "First",
 "maxDownloadSizeLimit": 2048,
 "defaultCompressionQuality": 75,
 "defaultResamplingMethod": "Bilinear",
 "maxImageHeight": 4100,
 "maxImageWidth": 15000,
 "maxRecordCount": 1000,
 "maxDownloadImageCount": 20,
 "maxMosaicImageCount": 20,
 "allowRasterFunction": true,
 "rasterFunctionInfos": [
  {
   "name": "None",
   "description": "",
   "help": ""
  }
 ],
 "rasterTypeInfos": [
  {
   "name": "Raster Dataset",
   "description": "Supports all ArcGIS Raster Datasets",
   "help": ""
  }
 ],
 "mensurationCapabilities": "None",
 "hasHistograms": true,
 "hasColormap": false,
 "hasRasterAttributeTable": false,
 "minScale": 0,
 "maxScale": 0,
 "exportTilesAllowed": false,
 "hasMultidimensions": false,
 "supportsStatistics": true,
 "supportsAdvancedQueries": true,
 "editFieldsInfo": null,
 "ownershipBasedAccessControlForRasters": null,
 "allowComputeTiePoints": false,
 "useStandardizedQueries": true,
 "advancedQueryCapabilities": {
  "useStandardizedQueries": true,
  "supportsStatistics": true,
  "supportsOrderBy": true,
  "supportsDistinct": true,
  "supportsPagination": true
 },
 "spatialReference": {
  "wkid": 102100,
  "latestWkid": 3857
 }
}
