{
 "currentVersion": 10.81,
 "serviceDescription": "Description: This product shows U.S.D.A. aerial imagery of Leon County, FL. The imagery was captured in 1949 (the exact known dates are 3/12/1949, 3/16/1949 and 4/6/1949). The images were obtained from the University of Florida Digital Collections: George A. Smathers Libraries. https://ufdc.ufl.edu/aerials/all The original imagery set was missing several areas that could not be included in this product.\n\nTLCGIS regularly uses digital orthophotos along with planimetric, hydrographic, and topographic data to support regulatory functions, land management and acquisition, planning, engineering and habitat restoration projects. However, this imagery is not ortho-rectified. The images displayed in this service were manually scanned from hard copy then georeferenced, edge matched, and color balanced by TLCGIS staff. While TLCGIS staff georeferenced the images, we can make no claims as to the accuracy, uniformity of scale or lack of distortion. This imagery layer was published as a dynamic service from an ESRI mosaic data set.",
 "name": "ImageryServices/TLC_Imagery1949_D_WM",
 "description": "Description: This product shows U.S.D.A. aerial imagery of Leon County, FL. The imagery was captured in 1949 (the exact known dates are 3/12/1949, 3/16/1949 and 4/6/1949). The images were obtained from the University of Florida Digital Collections: George A. Smathers Libraries. https://ufdc.ufl.edu/aerials/all The original imagery set was missing several areas that could not be included in this product.\n\nTLCGIS regularly uses digital orthophotos along with planimetric, hydrographic, and topographic data to support regulatory functions, land management and acquisition, planning, engineering and habitat restoration projects. However, this imagery is not ortho-rectified. The images displayed in this service were manually scanned from hard copy then georeferenced, edge matched, and color balanced by TLCGIS staff. While TLCGIS staff georeferenced the images, we can make no claims as to the accuracy, uniformity of scale or lack of distortion. This imagery layer was published as a dynamic service from an ESRI mosaic data set.",
 "extent": {
  "xmin": -9430500.109764097,
  "ymin": 3538731.5699162115,
  "xmax": -9348346.595732922,
  "ymax": 3591972.3757724827,
  "spatialReference": {
   "wkid": 102100,
   "latestWkid": 3857
  }
 },
 "initialExtent": {
  "xmin": -9430500.109764097,
  "ymin": 3538731.5699162115,
  "xmax": -9348346.595732922,
  "ymax": 3591972.3757724827,
  "spatialReference": {
   "wkid": 102100,
   "latestWkid": 3857
  }
 },
 "fullExtent": {
  "xmin": -9430500.109764097,
  "ymin": 3538731.5699162115,
  "xmax": -9348346.595732922,
  "ymax": 3591972.3757724827,
  "spatialReference": {
   "wkid": 102100,
   "latestWkid": 3857
  }
 },
 "pixelSizeX": 0.8673118602982995,
 "pixelSizeY": 0.8673118602982958,
 "bandCount": 1,
 "pixelType": "U8",
 "minPixelSize": 0,
 "maxPixelSize": 0,
 "copyrightText": "",
 "serviceDataType": "esriImageServiceDataTypeProcessed",
 "minValues": [],
 "maxValues": [],
 "meanValues": [],
 "stdvValues": [],
 "objectIdField": "OBJECTID",
 "fields": [
  {
   "name": "OBJECTID",
   "type": "esriFieldTypeOID",
   "alias": "OBJECTID",
   "domain": null
  },
  {
   "name": "Shape",
   "type": "esriFieldTypeGeometry",
   "alias": "Shape",
   "domain": null
  },
  {
   "name": "Name",
   "type": "esriFieldTypeString",
   "alias": "Name",
   "domain": null,
   "length": 200
  },
  {
   "name": "MinPS",
   "type": "esriFieldTypeDouble",
   "alias": "MinPS",
   "domain": null
  },
  {
   "name": "MaxPS",
   "type": "esriFieldTypeDouble",
   "alias": "MaxPS",
   "domain": null
  },
  {
   "name": "LowPS",
   "type": "esriFieldTypeDouble",
   "alias": "LowPS",
   "domain": null
  },
  {
   "name": "HighPS",
   "type": "esriFieldTypeDouble",
   "alias": "HighPS",
   "domain": null
  },
  {
   "name": "Category",
   "type": "esriFieldTypeInteger",
   "alias": "Category",
   "domain": {
    "type": "codedValue",
    "name": "MosaicCatalogItemCategoryDomain",
    "description": "Catalog item categories.",
    "codedValues": [
     {
      "name": "Unknown",
      "code": 0
     },
     {
      "name": "Primary",
      "code": 1
     },
     {
      "name": "Overview",
      "code": 2
     },
     {
      "name": "Unprocessed Overview",
      "code": 3
     },
     {
      "name": "Partial Overview",
      "code": 4
     },
     {
      "name": "Uploaded",
      "code": 253
     },
     {
      "name": "Incomplete",
      "code": 254
     },
     {
      "name": "Custom",
      "code": 255
     }
    ],
    "mergePolicy": "esriMPTDefaultValue",
    "splitPolicy": "esriSPTDefaultValue"
   }
  },
  {
   "name": "Tag",
   "type": "esriFieldTypeString",
   "alias": "Tag",
   "domain": null,
   "length": 100
  },
  {
   "name": "GroupName",
   "type": "esriFieldTypeString",
   "alias": "GroupName",
   "domain": null,
   "length": 100
  },
  {
   "name": "ProductName",
   "type": "esriFieldTypeString",
   "alias": "ProductName",
   "domain": null,
   "length": 100
  },
  {
   "name": "CenterX",
   "type": "esriFieldTypeDouble",
   "alias": "CenterX",
   "domain": null
  },
  {
   "name": "CenterY",
   "type": "esriFieldTypeDouble",
   "alias": "CenterY",
   "domain": null
  },
  {
   "name": "ZOrder",
   "type": "esriFieldTypeInteger",
   "alias": "ZOrder",
   "domain": null
  },
  {
   "name": "Shape_Length",
   "type": "esriFieldTypeDouble",
   "alias": "Shape_Length",
   "domain": null
  },
  {
   "name": "Shape_Area",
   "type": "esriFieldTypeDouble",
   "alias": "Shape_Area",
   "domain": null
  },
  {
   "name": "SOrder",
   "type": "esriFieldTypeInteger",
   "alias": "SOrder",
   "domain": null
  },
  {
   "name": "SLevelPS",
   "type": "esriFieldTypeDouble",
   "alias": "SLevelPS",
   "domain": null
  }
 ],
 "capabilities": "Catalog,Image,Metadata",
 "defaultMosaicMethod": "Seamline",
 "allowedMosaicMethods": "Seamline,ByAttribute",
 "sortField": "",
 "sortValue": null,
 "sortAscending": true,
 "mosaicOperator": "Blend",
 "maxDownloadSizeLimit": 2048,
 "defaultCompressionQuality": 75,
 "defaultResamplingMethod": "Bilinear",
 "maxImageHeight": 4100,
 "maxImageWidth": 15000,
 "maxRecordCount": 1000,
 "maxDownloadImageCount": 20,
 "maxMosaicImageCount": 20,
 "allowRasterFunction": true,
 "rasterFunctionInfos": [
  {
   "name": "None",
   "description": "",
   "help": ""
  }
 ],
 "rasterTypeInfos": [
  {
   "name": "Raster Dataset",
   "description": "Supports all ArcGIS Raster Datasets",
   "help": ""
  }
 ],
 "mensurationCapabilities": "None",
 "hasHistograms": false,
 "hasColormap": false,
 "hasRasterAttributeTable": false,
 "minScale": 0,
 "maxScale": 0,
 "exportTilesAllowed": false,
 "hasMultidimensions": false,
 "supportsStatistics": true,
 "supportsAdvancedQueries": true,
 "editFieldsInfo": null,
 "ownershipBasedAccessControlForRasters": null,
 "allowComputeTiePoints": false,
 "useStandardizedQueries": true,
 "advancedQueryCapabilities": {
  "useStandardizedQueries": true,
  "supportsStatistics": true,
  "supportsOrderBy": true,
  "supportsDistinct": true,
  "supportsPagination": true
 },
 "spatialReference": {
  "wkid": 102100,
  "latestWkid": 3857
 }
}
