{
 "currentVersion": 10.81,
 "serviceDescription": "This product shows U.S.D.A. aerial imagery of Leon County, FL. The imagery was taken in May, 1941. The images were obtained from the University of Florida Digital Collections: George A. Smathers Libraries. http://ufdc.ufl.edu/aerials/all The images were cropped and processed in graphics software and georeferenced in ArcGIS.\n\nThis shows historical imagery (1941) of Leon County, FL. TLCGIS regularly uses digital orthophotos along with planimetric, hydrographic, and topographic data to support regulatory functions, land management and acquisition, planning, engineering and habitat restoration projects. However, this imagery is not ortho-rectified. The images displayed in this service were manually scanned from hard copy then georeferenced, edge matched, and color balanced by TLCGIS staff. While TLCGIS staff georeferenced the images, we can make no claims as to the accuracy, uniformity of scale or lack of distortion. This imagery layer was published as a dynamic service from an ESRI mosaic data set. ",
 "name": "ImageryServices/TLC_Imagery1941_D_WM",
 "description": "This product shows U.S.D.A. aerial imagery of Leon County, FL. The imagery was taken in May, 1941. The images were obtained from the University of Florida Digital Collections: George A. Smathers Libraries. http://ufdc.ufl.edu/aerials/all The images were cropped and processed in graphics software and georeferenced in ArcGIS.\n\nThis shows historical imagery (1941) of Leon County, FL. TLCGIS regularly uses digital orthophotos along with planimetric, hydrographic, and topographic data to support regulatory functions, land management and acquisition, planning, engineering and habitat restoration projects. However, this imagery is not ortho-rectified. The images displayed in this service were manually scanned from hard copy then georeferenced, edge matched, and color balanced by TLCGIS staff. While TLCGIS staff georeferenced the images, we can make no claims as to the accuracy, uniformity of scale or lack of distortion. This imagery layer was published as a dynamic service from an ESRI mosaic data set. ",
 "extent": {
  "xmin": -9430491.3746,
  "ymin": 3538721.308617385,
  "xmax": -9348363.860453166,
  "ymax": 3591954.1245000013,
  "spatialReference": {
   "wkid": 102100,
   "latestWkid": 3857
  }
 },
 "initialExtent": {
  "xmin": -9430491.3746,
  "ymin": 3538721.308617385,
  "xmax": -9348363.860453166,
  "ymax": 3591954.1245000013,
  "spatialReference": {
   "wkid": 102100,
   "latestWkid": 3857
  }
 },
 "fullExtent": {
  "xmin": -9430491.3746,
  "ymin": 3538721.308617385,
  "xmax": -9348363.860453166,
  "ymax": 3591954.1245000013,
  "spatialReference": {
   "wkid": 102100,
   "latestWkid": 3857
  }
 },
 "pixelSizeX": 0.8587600161743568,
 "pixelSizeY": 0.8587600161743597,
 "bandCount": 1,
 "pixelType": "U8",
 "minPixelSize": 0,
 "maxPixelSize": 0,
 "copyrightText": "Images a project of the U.S. Department of Agriculture, Agricultural Adjustment Administration. Symbol AKV USDA 905-41 Item 9 Scale 1:20,000 Imagery taken by C. S. Robinson Aerial Surveys, Ithaca, NY.",
 "serviceDataType": "esriImageServiceDataTypeProcessed",
 "minValues": [
  0
 ],
 "maxValues": [
  255
 ],
 "meanValues": [
  119.10884022712256
 ],
 "stdvValues": [
  48.390563180708384
 ],
 "objectIdField": "OBJECTID",
 "fields": [
  {
   "name": "OBJECTID",
   "type": "esriFieldTypeOID",
   "alias": "OBJECTID",
   "domain": null
  },
  {
   "name": "Shape",
   "type": "esriFieldTypeGeometry",
   "alias": "Shape",
   "domain": null
  },
  {
   "name": "Name",
   "type": "esriFieldTypeString",
   "alias": "Name",
   "domain": null,
   "length": 50
  },
  {
   "name": "MinPS",
   "type": "esriFieldTypeDouble",
   "alias": "MinPS",
   "domain": null
  },
  {
   "name": "MaxPS",
   "type": "esriFieldTypeDouble",
   "alias": "MaxPS",
   "domain": null
  },
  {
   "name": "LowPS",
   "type": "esriFieldTypeDouble",
   "alias": "LowPS",
   "domain": null
  },
  {
   "name": "HighPS",
   "type": "esriFieldTypeDouble",
   "alias": "HighPS",
   "domain": null
  },
  {
   "name": "Category",
   "type": "esriFieldTypeInteger",
   "alias": "Category",
   "domain": {
    "type": "codedValue",
    "name": "MosaicCatalogItemCategoryDomain",
    "description": "Catalog item categories.",
    "codedValues": [
     {
      "name": "Unknown",
      "code": 0
     },
     {
      "name": "Primary",
      "code": 1
     },
     {
      "name": "Overview",
      "code": 2
     },
     {
      "name": "Unprocessed Overview",
      "code": 3
     },
     {
      "name": "Partial Overview",
      "code": 4
     },
     {
      "name": "Uploaded",
      "code": 253
     },
     {
      "name": "Incomplete",
      "code": 254
     },
     {
      "name": "Custom",
      "code": 255
     }
    ],
    "mergePolicy": "esriMPTDefaultValue",
    "splitPolicy": "esriSPTDefaultValue"
   }
  },
  {
   "name": "Tag",
   "type": "esriFieldTypeString",
   "alias": "Tag",
   "domain": null,
   "length": 20
  },
  {
   "name": "GroupName",
   "type": "esriFieldTypeString",
   "alias": "GroupName",
   "domain": null,
   "length": 50
  },
  {
   "name": "ProductName",
   "type": "esriFieldTypeString",
   "alias": "ProductName",
   "domain": null,
   "length": 50
  },
  {
   "name": "CenterX",
   "type": "esriFieldTypeDouble",
   "alias": "CenterX",
   "domain": null
  },
  {
   "name": "CenterY",
   "type": "esriFieldTypeDouble",
   "alias": "CenterY",
   "domain": null
  },
  {
   "name": "ZOrder",
   "type": "esriFieldTypeInteger",
   "alias": "ZOrder",
   "domain": null
  },
  {
   "name": "Shape_Length",
   "type": "esriFieldTypeDouble",
   "alias": "Shape_Length",
   "domain": null
  },
  {
   "name": "Shape_Area",
   "type": "esriFieldTypeDouble",
   "alias": "Shape_Area",
   "domain": null
  }
 ],
 "capabilities": "Catalog,Image,Metadata",
 "defaultMosaicMethod": "Seamline",
 "allowedMosaicMethods": "Seamline,NorthWest,ByAttribute",
 "sortField": "",
 "sortValue": null,
 "sortAscending": true,
 "mosaicOperator": "Blend",
 "maxDownloadSizeLimit": 2048,
 "defaultCompressionQuality": 75,
 "defaultResamplingMethod": "Bilinear",
 "maxImageHeight": 4100,
 "maxImageWidth": 15000,
 "maxRecordCount": 1000,
 "maxDownloadImageCount": 20,
 "maxMosaicImageCount": 20,
 "allowRasterFunction": true,
 "rasterFunctionInfos": [
  {
   "name": "None",
   "description": "A No-Op Function.",
   "help": ""
  }
 ],
 "rasterTypeInfos": [
  {
   "name": "Raster Dataset",
   "description": "Supports all ArcGIS Raster Datasets",
   "help": ""
  }
 ],
 "mensurationCapabilities": "None",
 "hasHistograms": true,
 "hasColormap": false,
 "hasRasterAttributeTable": false,
 "minScale": 0,
 "maxScale": 0,
 "exportTilesAllowed": false,
 "hasMultidimensions": false,
 "supportsStatistics": true,
 "supportsAdvancedQueries": true,
 "editFieldsInfo": null,
 "ownershipBasedAccessControlForRasters": null,
 "allowComputeTiePoints": false,
 "useStandardizedQueries": true,
 "advancedQueryCapabilities": {
  "useStandardizedQueries": true,
  "supportsStatistics": true,
  "supportsOrderBy": true,
  "supportsDistinct": true,
  "supportsPagination": true
 },
 "spatialReference": {
  "wkid": 102100,
  "latestWkid": 3857
 }
}
