<?xml version="1.0" encoding="UTF-8" standalone="no"?>
<metadata xml:lang="en">
<Esri>
<CreaDate>20170418</CreaDate>
<CreaTime>14133600</CreaTime>
<ArcGISFormat>1.0</ArcGISFormat>
<ArcGISstyle>North American Profile of ISO19115 2003</ArcGISstyle>
<SyncOnce>FALSE</SyncOnce>
<DataProperties>
<itemProps>
<itemName Sync="TRUE">Imagery_1941_WM</itemName>
<nativeExtBox>
<westBL Sync="TRUE">-9430491.374600</westBL>
<eastBL Sync="TRUE">-9348363.860453</eastBL>
<southBL Sync="TRUE">3538721.308617</southBL>
<northBL Sync="TRUE">3591954.124500</northBL>
<exTypeCode Sync="TRUE">1</exTypeCode>
</nativeExtBox>
</itemProps>
<coordRef>
<type Sync="TRUE">Projected</type>
<geogcsn Sync="TRUE">GCS_WGS_1984</geogcsn>
<csUnits Sync="TRUE">Linear Unit: Meter (1.000000)</csUnits>
<projcsn Sync="TRUE">WGS_1984_Web_Mercator_Auxiliary_Sphere</projcsn>
<peXml Sync="TRUE">&lt;ProjectedCoordinateSystem xsi:type='typens:ProjectedCoordinateSystem' xmlns:xsi='http://www.w3.org/2001/XMLSchema-instance' xmlns:xs='http://www.w3.org/2001/XMLSchema' xmlns:typens='http://www.esri.com/schemas/ArcGIS/10.1'&gt;&lt;WKT&gt;PROJCS[&amp;quot;WGS_1984_Web_Mercator_Auxiliary_Sphere&amp;quot;,GEOGCS[&amp;quot;GCS_WGS_1984&amp;quot;,DATUM[&amp;quot;D_WGS_1984&amp;quot;,SPHEROID[&amp;quot;WGS_1984&amp;quot;,6378137.0,298.257223563]],PRIMEM[&amp;quot;Greenwich&amp;quot;,0.0],UNIT[&amp;quot;Degree&amp;quot;,0.0174532925199433]],PROJECTION[&amp;quot;Mercator_Auxiliary_Sphere&amp;quot;],PARAMETER[&amp;quot;False_Easting&amp;quot;,0.0],PARAMETER[&amp;quot;False_Northing&amp;quot;,0.0],PARAMETER[&amp;quot;Central_Meridian&amp;quot;,0.0],PARAMETER[&amp;quot;Standard_Parallel_1&amp;quot;,0.0],PARAMETER[&amp;quot;Auxiliary_Sphere_Type&amp;quot;,0.0],UNIT[&amp;quot;Meter&amp;quot;,1.0],AUTHORITY[&amp;quot;EPSG&amp;quot;,3857]]&lt;/WKT&gt;&lt;XOrigin&gt;-20037700&lt;/XOrigin&gt;&lt;YOrigin&gt;-30241100&lt;/YOrigin&gt;&lt;XYScale&gt;148923141.92838538&lt;/XYScale&gt;&lt;ZOrigin&gt;-100000&lt;/ZOrigin&gt;&lt;ZScale&gt;10000&lt;/ZScale&gt;&lt;MOrigin&gt;-100000&lt;/MOrigin&gt;&lt;MScale&gt;10000&lt;/MScale&gt;&lt;XYTolerance&gt;0.001&lt;/XYTolerance&gt;&lt;ZTolerance&gt;0.001&lt;/ZTolerance&gt;&lt;MTolerance&gt;0.001&lt;/MTolerance&gt;&lt;HighPrecision&gt;true&lt;/HighPrecision&gt;&lt;WKID&gt;102100&lt;/WKID&gt;&lt;LatestWKID&gt;3857&lt;/LatestWKID&gt;&lt;/ProjectedCoordinateSystem&gt;</peXml>
</coordRef>
<RasterProperties>
<General>
<PixelDepth Sync="TRUE">8</PixelDepth>
<HasColormap Sync="TRUE">FALSE</HasColormap>
<CompressionType Sync="TRUE">None</CompressionType>
<NumBands Sync="TRUE">1</NumBands>
<Format Sync="TRUE">AMD</Format>
<HasPyramids Sync="TRUE">TRUE</HasPyramids>
<SourceType Sync="TRUE">continuous</SourceType>
<PixelType Sync="TRUE">unsigned integer</PixelType>
<NoDataValue Sync="TRUE">
</NoDataValue>
</General>
<Properties>
<MaxImageHeight Sync="TRUE">4100</MaxImageHeight>
<MaxImageWidth Sync="TRUE">15000</MaxImageWidth>
<MaxRecordCount Sync="TRUE">1000</MaxRecordCount>
<MaxDownloadImageCount Sync="TRUE">20</MaxDownloadImageCount>
<MaxDownloadSizeLimit Sync="TRUE">2048</MaxDownloadSizeLimit>
<MaxMosaicImageCount Sync="TRUE">50</MaxMosaicImageCount>
<DefaultCompressionQuality Sync="TRUE">75</DefaultCompressionQuality>
<DefaultCompressionTolerance Sync="TRUE">0.01</DefaultCompressionTolerance>
<BlendWidth Sync="TRUE">10</BlendWidth>
<ViewpointSpacingX Sync="TRUE">600</ViewpointSpacingX>
<ViewpointSpacingY Sync="TRUE">300</ViewpointSpacingY>
<AllowedItemMetadata Sync="TRUE">Basic</AllowedItemMetadata>
<DefaultResamplingMethod Sync="TRUE">1</DefaultResamplingMethod>
<AllowedMosaicMethods Sync="TRUE">Seamline,NorthWest,ByAttribute</AllowedMosaicMethods>
<AllowedCompressions Sync="TRUE">LZ77</AllowedCompressions>
<AllowedMensurationCapabilities Sync="TRUE">None</AllowedMensurationCapabilities>
<AvailableMensurationCapabilities Sync="TRUE">None,Basic,Base-Top Height,Top-Top Shadow Height,Base-Top Shadow Height,3D</AvailableMensurationCapabilities>
<ClipToBoundary Sync="TRUE">-1</ClipToBoundary>
<FootprintMayContainNoData Sync="TRUE">-1</FootprintMayContainNoData>
<CellSizeTolerance Sync="TRUE">0.8</CellSizeTolerance>
<MinimumPixelContribution Sync="TRUE">1</MinimumPixelContribution>
<AvailableMosaicMethods Sync="TRUE">NorthWest,Center,LockRaster,ByAttribute,Nadir,Viewpoint,Seamline,None</AvailableMosaicMethods>
<AvailableCompressionMethods Sync="TRUE">None,JPEG,LZ77,LERC</AvailableCompressionMethods>
<AvailableItemMetadataLevels Sync="TRUE">None,Basic,Full</AvailableItemMetadataLevels>
<ConfigKeyword Sync="TRUE">
</ConfigKeyword>
<BandDefinitionKeyword Sync="TRUE">NONE</BandDefinitionKeyword>
<AllowedFields Sync="TRUE">Name,MinPS,MaxPS,LowPS,HighPS,Tag,GroupName,ProductName,CenterX,CenterY,ZOrder,Shape_Length,Shape_Area</AllowedFields>
<ApplyColorCorrection Sync="TRUE">0</ApplyColorCorrection>
<DataType Sync="TRUE">Processed</DataType>
<TimeValueFormat Sync="TRUE">
</TimeValueFormat>
<EndTimeFieldName Sync="TRUE">
</EndTimeFieldName>
<StartTimeFieldName Sync="TRUE">
</StartTimeFieldName>
<MosaicOperator Sync="TRUE">6</MosaicOperator>
<BlendWidthUnits Sync="TRUE">1</BlendWidthUnits>
<UseTime Sync="TRUE">0</UseTime>
<SortAscending Sync="TRUE">-1</SortAscending>
<ClipToFootprint Sync="TRUE">0</ClipToFootprint>
<SortField Sync="TRUE">ZOrder</SortField>
<SortValue Sync="TRUE">0</SortValue>
<LowCellSize Sync="TRUE">0.858760016174359</LowCellSize>
<HighCellSize Sync="TRUE">488.607377032634</HighCellSize>
<MaxCellSize Sync="TRUE">0</MaxCellSize>
</Properties>
<Functions Sync="TRUE">
<Function Description="Performs on-the-fly mosaic on a raster catalog." Name="Mosaic Function">
</Function>
</Functions>
</RasterProperties>
</DataProperties>
<SyncDate>20151221</SyncDate>
<SyncTime>11254400</SyncTime>
<ModDate>20151221</ModDate>
<ModTime>11285900</ModTime>
<scaleRange>
<minScale>150000000</minScale>
<maxScale>5000</maxScale>
</scaleRange>
<ArcGISProfile>NAP</ArcGISProfile>
</Esri>
<mdLang>
<languageCode value="eng">
</languageCode>
<countryCode Sync="TRUE" value="USA">
</countryCode>
</mdLang>
<mdChar>
<CharSetCd value="004">
</CharSetCd>
</mdChar>
<mdHrLv>
<ScopeCd value="005">
</ScopeCd>
</mdHrLv>
<mdContact>
<rpIndName>Jacob Coble</rpIndName>
<rpOrgName>Tallahassee-Leon County GIS</rpOrgName>
<rpPosName>GIS Specialist III</rpPosName>
<rpCntInfo>
<cntPhone>
<voiceNum>850-606-5504</voiceNum>
<faxNum>850-606-5501</faxNum>
</cntPhone>
<cntAddress>
<delPoint>301 S. Monroe St</delPoint>
<city>Tallahassee</city>
<adminArea>FL</adminArea>
<postCode>32301</postCode>
<country>US</country>
<eMailAdd>coblej@leoncountyfl.gov</eMailAdd>
</cntAddress>
<cntHours>8:00 to 5:00 Monday through Friday Eastern Time</cntHours>
</rpCntInfo>
<role>
<RoleCd value="002">
</RoleCd>
</role>
</mdContact>
<mdDateSt Sync="TRUE">20151221</mdDateSt>
<mdStanName>ArcGIS Metadata</mdStanName>
<mdStanVer>1.0</mdStanVer>
<dataIdInfo>
<idCitation>
<resTitle Sync="FALSE">Leon County Historical Aerial Imagery 1941, in Web Mercator</resTitle>
<date>
<createDate>1941-05-30T00:00:00</createDate>
<pubDate>2015-12-21T00:00:00</pubDate>
</date>
<citRespParty>
<rpIndName>Greg Mauldin</rpIndName>
<rpOrgName>TLCGIS</rpOrgName>
<rpPosName>GIS Project Manager</rpPosName>
<rpCntInfo>
<cntAddress>
<eMailAdd>maulding@leoncountyfl.gov</eMailAdd>
</cntAddress>
</rpCntInfo>
<role>
<RoleCd value="010">
</RoleCd>
</role>
</citRespParty>
<presForm>
<PresFormCd value="005">
</PresFormCd>
</presForm>
<otherCitDet>Flying completed, 5/30/1941.</otherCitDet>
</idCitation>
<idAbs>This product shows U.S.D.A. aerial imagery of Leon County, FL. The imagery was taken in May, 1941. The images were obtained from the University of Florida Digital Collections: George A. Smathers Libraries. http://ufdc.ufl.edu/aerials/all The images were cropped and processed in graphics software and georeferenced in ArcGIS.
This shows historical imagery (1941) of Leon County, FL. TLCGIS regularly uses digital orthophotos along with planimetric, hydrographic, and topographic data to support regulatory functions, land management and acquisition, planning, engineering and habitat restoration projects. However, this imagery is not ortho-rectified. The images displayed in this service were manually scanned from hard copy then georeferenced, edge matched, and color balanced by TLCGIS staff. While TLCGIS staff georeferenced the images, we can make no claims as to the accuracy, uniformity of scale or lack of distortion. This imagery layer was published as a dynamic service from an ESRI mosaic data set. </idAbs>
<idPurp>May 1941 Historical Black and White Imagery</idPurp>
<idCredit>Images a project of the U.S. Department of Agriculture, Agricultural Adjustment Administration. Symbol AKV USDA 905-41 Item 9 Scale 1:20,000 Imagery taken by C. S. Robinson Aerial Surveys, Ithaca, NY.</idCredit>
<resMaint>
<maintFreq>
<MaintFreqCd value="011">
</MaintFreqCd>
</maintFreq>
</resMaint>
<tempKeys>
<keyword>1941</keyword>
</tempKeys>
<otherKeys>
<keyword>Imagery</keyword>
</otherKeys>
<searchKeys>
<keyword>Florida</keyword>
<keyword> Tallahassee</keyword>
<keyword> Leon County</keyword>
<keyword> 1941</keyword>
<keyword> USA</keyword>
<keyword> Aerial Imagery</keyword>
<keyword> historical</keyword>
</searchKeys>
<resConst>
<Consts>
<useLimit>NOTE: This product has been compiled from the most accurate source data from Leon County, the City of Tallahassee, and the Leon County Property Appraiser's Office. However, this product is for reference purposes only and is not to be construed as a legal document or survey instrument. Any reliance on the information contained herein is at the user's own risk. Leon County, the City of Tallahassee, and the Leon County Property Appraiser's Office assume no responsibility for any use of the information contained herein or any loss resulting therefrom.</useLimit>
</Consts>
</resConst>
<spatRpType>
<SpatRepTypCd value="002">
</SpatRepTypCd>
</spatRpType>
<dataLang>
<languageCode value="eng">
</languageCode>
<countryCode Sync="TRUE" value="USA">
</countryCode>
</dataLang>
<dataChar>
<CharSetCd value="004">
</CharSetCd>
</dataChar>
<envirDesc Sync="FALSE">Esri ArcGIS 10.2.2.3552</envirDesc>
<dataExt>
<geoEle>
<GeoBndBox>
<exTypeCode>true</exTypeCode>
<westBL>-84.736717</westBL>
<eastBL>-83.948321</eastBL>
<southBL>30.25784</southBL>
<northBL>30.698901</northBL>
</GeoBndBox>
</geoEle>
</dataExt>
<dataExt>
<geoEle>
<GeoBndBox>
<exTypeCode>true</exTypeCode>
<westBL>-84.73671</westBL>
<eastBL>-83.948325</eastBL>
<southBL>30.257843</southBL>
<northBL>30.698898</northBL>
</GeoBndBox>
</geoEle>
<tempEle>
<TempExtent>
<exTemp>
<TM_Period gmlID="ID0ELHAC">
<tmEnd>1941-05-30T00:00:00</tmEnd>
</TM_Period>
</exTemp>
</TempExtent>
</tempEle>
</dataExt>
<dataExt>
<geoEle>
<GeoBndBox esriExtentType="search">
<exTypeCode Sync="TRUE">1</exTypeCode>
<westBL Sync="TRUE">-84.715545</westBL>
<eastBL Sync="TRUE">-83.977781</eastBL>
<northBL Sync="TRUE">30.685359</northBL>
<southBL Sync="TRUE">30.273243</southBL>
</GeoBndBox>
</geoEle>
</dataExt>
<tpCat>
<TopicCatCd value="016">
</TopicCatCd>
</tpCat>
<tpCat>
<TopicCatCd value="010">
</TopicCatCd>
</tpCat>
<tpCat>
<TopicCatCd value="015">
</TopicCatCd>
</tpCat>
</dataIdInfo>
<mdMaint>
<maintFreq>
<MaintFreqCd value="011">
</MaintFreqCd>
</maintFreq>
</mdMaint>
<dqInfo>
<dataLineage>
<statement>This summarizes our process: We cropped the middle of each image we used, using graphics software. The images are georeferenced in ArcGIS and we did rubber sheeting based on other imagery and landmarks, but the TIFF files themselves are not warped. Also, we enhanced most of the images to some degree in PhotoShop. The georeferenced TIFF files are served in a Mosaic Dataset.</statement>
</dataLineage>
</dqInfo>
<spatRepInfo>
<Georect>
<numDims Sync="TRUE">2</numDims>
<axisDimension type="001">
<dimSize Sync="TRUE">61988</dimSize>
<dimResol>
<value Sync="TRUE" uom="Meter">0.858760</value>
</dimResol>
</axisDimension>
<axisDimension type="002">
<dimSize Sync="TRUE">95635</dimSize>
<dimResol>
<value Sync="TRUE" uom="Meter">0.858760</value>
</dimResol>
</axisDimension>
<cellGeo>
<CellGeoCd Sync="TRUE" value="002">
</CellGeoCd>
</cellGeo>
<tranParaAv Sync="TRUE">1</tranParaAv>
<chkPtAv Sync="TRUE">0</chkPtAv>
<cornerPts gmlID="ID0EPGAC">
<pos Sync="TRUE">-9430491.374600 3538721.308617</pos>
</cornerPts>
<cornerPts gmlID="ID0EJGAC">
<pos Sync="TRUE">-9430491.374600 3591954.124500</pos>
</cornerPts>
<cornerPts gmlID="ID0EVGAC">
<pos Sync="TRUE">-9348363.860453 3591954.124500</pos>
</cornerPts>
<cornerPts gmlID="ID0EDGAC">
<pos Sync="TRUE">-9348363.860453 3538721.308617</pos>
</cornerPts>
<centerPt gmlID="ID0E2GAC">
<pos Sync="TRUE">-9389427.617527 3565337.716559</pos>
</centerPt>
<ptInPixel>
<PixOrientCd Sync="TRUE" value="001">
</PixOrientCd>
</ptInPixel>
</Georect>
</spatRepInfo>
<refSysInfo>
<RefSystem>
<refSysID>
<identCode code="2883">
</identCode>
<idCodeSpace Sync="TRUE">EPSG</idCodeSpace>
<idVersion Sync="TRUE">8.2.6</idVersion>
</refSysID>
</RefSystem>
</refSysInfo>
<contInfo>
<ImgDesc>
<contentTyp>
<ContentTypCd Sync="TRUE" value="001">
</ContentTypCd>
</contentTyp>
<covDim>
<Band>
<dimDescrp Sync="TRUE">Band_1</dimDescrp>
<maxVal>255</maxVal>
<minVal>0</minVal>
<valUnit>
<UOM gmlID="ID0E4IAC" type="length">
<gmlIdent codeSpace="GML_UomSymbol">Unified Code of Units of Measure</gmlIdent>
</UOM>
</valUnit>
<bitsPerVal Sync="TRUE">8</bitsPerVal>
</Band>
</covDim>
<trianInd>false</trianInd>
<radCalDatAv>false</radCalDatAv>
<camCalInAv>false</camCalInAv>
<filmDistInAv>false</filmDistInAv>
<lensDistInAv>false</lensDistInAv>
</ImgDesc>
</contInfo>
</metadata>
